Workbook
Name __DemandLoad: TRUE
Name _1.v.__svērtais_vidējais__2008.g: #REF!
Name _2.v.__svērtais_vidējais__2008.g: #REF!
Name _sid2: #REF!
Name _sid3: #REF!
Name _tab1: '[1]datu ievads1'!#REF!
Name _tab5: #REF!
Name _tab6: #REF!
Name _tab7: #REF!
Name _tab8: #REF!
Name aftCOC: [2]After!$K$272
Name akc_1: #REF!
Name akc_2: #REF!
Name akc_3: #REF!
Name akc_4: #REF!
Name akc_5: #REF!
Name akt_1: #REF!
Name akt_2: #REF!
Name akt_3: #REF!
Name akt_4: #REF!
Name akt_5: #REF!
Name apr_2: [3]Pašizmaksa!$C$43
Name aram_1: #REF!
Name aram_2: #REF!
Name aram_3: #REF!
Name aram_4: #REF!
Name aram_5: #REF!
Name atb_summa_1_1: #REF!
Name atb_summa_1_2: #REF!
Name atb_summa_1_3: #REF!
Name atb_summa_1_4: #REF!
Name atb_summa_1_5: #REF!
Name atb_summa_2_1: #REF!
Name atb_summa_2_2: #REF!
Name atb_summa_2_3: #REF!
Name atb_summa_2_4: #REF!
Name atb_summa_2_5: #REF!
Name atb_summa_3_1: #REF!
Name atb_summa_3_2: #REF!
Name atb_summa_3_3: #REF!
Name atb_summa_3_4: #REF!
Name atb_summa_3_5: #REF!
Name atb_summa_4_1: #REF!
Name atb_summa_4_2: #REF!
Name atb_summa_4_3: #REF!
Name atb_summa_4_4: #REF!
Name atb_summa_4_5: #REF!
Name atb_summa_5_1: #REF!
Name atb_summa_5_2: #REF!
Name atb_summa_5_3: #REF!
Name atb_summa_5_4: #REF!
Name atb_summa_5_5: #REF!
Name atbalsts_1_1: #REF!
Name atbalsts_1_2: #REF!
Name atbalsts_1_3: #REF!
Name atbalsts_1_4: #REF!
Name atbalsts_1_5: #REF!
Name atbalsts_2_1: #REF!
Name atbalsts_2_2: #REF!
Name atbalsts_2_3: #REF!

Sheet Apraksts
C1: Cienījamais lietotāj!
B2: Piena ražošanas pašizmaksas modeli izstrādāja SIA "Latvijas Lauku konsultāciju un izglītības centra" (LLKC) speciālisti sadarbībā ar Latvijas Lauksaimniecības universitātes un Zemkopības ministrijas speciālistiem. Piena pašizmaksas modelis ir veidots, lai tajā varētu izmantot saimniecībā pieejamos visu nozaru kopīgos grāmatvedības datus un nebūtu nepieciešams veidot atsevišķi nodalītu izdevumu uzskaiti par katru no saimniecības darbības nozarēm vai sektoriem. Modelis automātiski nodrošinās piena sektora izmaksu izdalīšanu no kopējām saimniecības izmaksām. Aprēķinos nepieciešama informācija par saimniekošanā izmantotiem lauksaimniecības ražošanas resursiem (lauksaimniecības zeme un dzīvnieki) un informācija par lauksaimniecības produkcijas izlaides vērtību un saņemto atbalsta apjomu. Piena pašizmaksas modelis aprēķina vidējo pašizmaksu par periodu (gadu, pusgadu utt.), tādēļ modelī ievadāmi dati, kas raksturo saimniecības finanšu situāciju par konkrēto laika periodu. Saimniecības datu ievades lapā pa labi no tabulas ir ievadīti piemēra dati. Rezultātu lapā lietotājam ir iespēja aprēķināt pašizmaksu, ja kāds no ievadītajiem rādītājiem tiktu izmainīts. Izmainītais rādītājs jāieraksta baltajā šūnā un tabulas augšējā daļā parādīsies izmainītā pašizmaksa. Ja Jums rodas jautājumi vai komentāri par modeli vai tā darbību, lūdzu, sazinieties ar LLKC Ekonomikas nodaļas speciālistiem Andri Stepanovu vai Raivi Andersonu. Tālrunis 63050576, e-pasti: andris.stepanovs@llkc.lv; raivis.andersons@llkc.lv.
C3: Saimniecības datu ievade
C4: Rezultātu lapa

Sheet Saimniecības dati
C1: Skatīt rezultātus
C2: Uz aprakstu
C4: Kalkulators, lai aprēķinātu piena pašizmaksu saimniecībā
C6: Lūdzu ievadiet Jūsu saimniecības datus par gadu. Jāaizpilda tabulas gaišās šūnas. Zaļi iekrāsotās šūnas aprēķināsies automātiski.
C8: 1. Lauksaimniecības resursi | G8: Piemērs | I8: Norādīti 2013.gada vidējās piena saimniecības rezultāti (vid. saimn.16 slaucams govis) Avots: SUDAT
C10: 1.1. Lauksaimniecībā izmantojamā zeme
B12: 7+8-9 | C12: Kopējā apsaimniekotā LIZ | D12: =Aprēķini!G13 -> 10 | E12: ha | G12: 52.27
B13: 7 | C13: - t.sk. LIZ, ko izmanto pašu vajadzībām - ganīšanai un barības iegūšanai | D13: 10 | E13: ha | G13: 40.7
B14: 8 | C14: - t.sk. LIZ, ko izmanto pārējām lauksaimnieciskās ražošanas vajadzībām - pārdošanai u.c. | D14: 0 | E14: ha | G14: 10.4
B15: 9 | C15: - t.sk. papuves un neizmantotā LIZ | D15: 0 | E15: ha | G15: 1.2
C17: 1.2. Mājlopi - vidējais lopu skaits gadā
C19: Slaucamās govis | E19: skaits | G19: 16.19 | I19: Kā uzskaitīt mājlopus? Katra mājlopa vidējais skaits gadā = mājlopa uzturēšanās ilgums (dienas vai mēneši) / (365 vai 12) Piemēram: Saimniecībā ir turētas - viena govs 365 dienas un otra govs 150 dienas. Aprēķina (365 + 150) / 365 = 1,41 (vidējais govju skaits gada laikā) Piemēram: Saimniecībā ir turētas - viena govs 12 mēneši un otra govs 5 mēneši. Aprēķina (12 + 5) / 12 = 1,41 (vidējais govju skaits gada laikā)
B20: 39 | C20: Teļi līdz 1 gadam: | D20: =SUM(D21:D22) -> 0 | E20: skaits | G20: 8.4
A21: citi | C21: - t.sk. teļi nokaušanai līdz 6 mēnešu vecumam | D21: 0 | E21: skaits | G21: 0.8
A22: piena | C22: - t.sk. pārējie jaunlopi jaunāki par gadu | D22: 0 | E22: skaits | G22: 7.6
B23: 40 | C23: Jaunlopi vecāki par gadu: | D23: =SUM(D24:D25) -> 0 | E23: skaits | G23: 5.69
A24: citi | C24: - t.sk. buļļi no 1 līdz 2 gadiem, ieskaita arī vaislas buļļus | D24: 0 | E24: skaits | G24: 0.82
A25: piena | C25: - t.sk. teles no 1 līdz 2 gadiem, kas jau atnesušās | D25: 0 | E25: skaits | G25: 4.87
B26: 41 | C26: Pārējie liellopi: | D26: =SUM(D27:D31) -> 0 | E26: skaits | G26: 2.26
A27: citi | C27: - t.sk. buļļi vecāki par 2 gadiem | D27: 0 | E27: skaits | G27: 0.1
A28: piena | C28: - t.sk. Audzējamās (vaislas) teles vecākas par 2 gadiem, vēl nav atnesušās | D28: 0 | E28: skaits | G28: 1.6
A29: citi | C29: - t.sk. nobarojamās teles vecākas par 2 gadiem, vēl nav atnesušās | D29: 0 | E29: skaits | G29: 0.01
A30: piena | C30: - t.sk. brāķētās slaucamās govis | D30: 0 | E30: skaits | G30: 0.12
A31: citi | C31: - t.sk. Zīdītājgovis (paredzētas teļu atražošanai, piens nav patēriņam) | D31: 0 | E31: skaits | G31: 0.43
C32: Pārējie mājlopi
A33: citi | B33: 42 | C33: Cūkas | D33: 0 | E33: skaits | G33: 1.02
A34: citi | B34: 43 | C34: Sivēni | D34: 0 | E34: skaits | G34: 0.44
A35: citi | B35: 44 | C35: Aitas, kazas | D35: 0 | E35: skaits | G35: 0.79
A36: citi | B36: 45 | C36: Putni (vistas, pīles u.c.) | D36: 0 | E36: skaits | G36: 4.67
A37: citi | B37: 46 | C37: Zirgi | D37: 0 | E37: skaits | G37: 0.08
A38: citi | B38: 47 | C38: Trušu mātes | D38: 0 | E38: skaits | G38: 0.26
C41: 1.4. Darbaspēka ieguldījums
C42: - Algotā darbaspēka ieguldījums | D42: 0 | E42: Stundas | G42: 3900.8 | I42: Visu nodarbināto kopā nostrādāto stundu skaits gadā (vai konkrētajā laika posmā)
C43: - Ģimenes darbaspēks (nealgotais + ģmenes darbaspēks) | D43: 0 | E43: Stundas | G43: 2778.4
C45: 1.3. Ēkas un tehnika
B46: 7 | C46: - Lopkopībā izmantotās ēkas no visām lauksaimniecības ēkām | D46: 100 | E46: % | G46: 100 | I46: Informācija nepieciešama, lai tehnikas un ēku izmaksas sadalītu pa augkopības un lopkopības nozarēm
B47: 8 | C47: - Augkopībā izmantotā tehnika no visas lauksaimniecības tehnikas | D47: 100 | E47: % | G47: 100
C49: 2. Saražotā produkcija
B51: 51 | C51: Saražotā produkcija kopā | D51: =Aprēķini!G47 -> 0 | E51: EUR | G51: 43258.32
C53: 2.1. Augkopības produkcija | D53: =D54+D56 -> 0 | E53: EUR | G53: 9839.98
C54: - izmantota lopbarībai | D54: 0 | E54: EUR | G54: 7831
C55: - Izmantota augkopībai | D55: 0 | E55: EUR | G55: 321
C56: -pārējā augkopības produkcija | D56: 0 | E56: EUR | G56: 1687
C58: 2.2. Lopkopības produkcija | D58: =Aprēķini!G49 -> 0 | G58: 31007.58
D59: EUR | E59: t | G59: EUR | H59: t
B60: 69 | C60: 2.2.1. Saražots piens kopā | D60: =SUM(D61:D64) -> 0 | E60: =SUM(E61:E64) -> 0 | G60: 27436.94 | H60: =SUM(H61:H64) -> 93.81
C61: - pārdots | D61: 0 | E61: 0 | G61: 25578 | H61: 84.92
C62: - Izlietots lopkopībā | D62: 0 | E62: 0 | G62: 1393 | H62: 6.6
C63: - izlietots pārstrādē | D63: 0 | E63: 0 | G63: -
C64: - cits izlietojums, piemēram, pašpatēriņam | D64: 0 | E64: 0 | G64: 466 | H64: 2.29
B65: 70 | C65: 2.2.2. Cita saražotā lopkobas produkcija (izņemot liellopu gaļu) | D65: 0 | G65: 3570.64
B66: 71 | C66: - t. sk. pārdots vai izlietots pārstrādē | D66: 0 | G66: 7.37
C67: - t. sk. izlietots lopkopībā | D67: 0 | E67: EUR | G67: 0
C68: - t. sk. izlietots augkopībā | D68: 0 | E68: EUR | G68: 805.9
C69: 2.2.3. Liellopu un to gaļas pārdošana | D69: 0 | E69: EUR | G69: 1582.54
B71: 75+77+78+79+80 | C71: 2.3. Pārējā lauksaimniecības produkcija, pārējie nelauksaimnieciskie ieņēmumi | D71: 0 | E71: EUR | G71: 2410.76
C73: 3. Izmaksas
B75: 105 | C75: Izmaksas kopā | D75: =D79+D85+D90+D97+D102+D108 -> 0 | E75: EUR | G75: 48977.58
C77: 3.1 Liellopu pirkšanas izdevumi | D77: 0 | E77: EUR | G77: 327.47 | I77: Jānorāda visas saimnieciskās darbības izmaksas! Izmaksu pozīcijas pa saimniecības nozarēm (piens, liellopu gaļa u.c.) tiks sadalītas aprēķinu ceļā ar koeficientu palīdzību. Koeficienti katrai saimniecībai tiks izrēķināti individuāli, ņemot vērā Jūsu ievadīto informāciju par zemes izlietojumu, mājlopu skaitu, darbaspēka ieguldījumu, saražoto produkciju.
C79: 3.2. Augkopības izmaksas | D79: =SUM(D80:D83) -> 0 | E79: EUR | G79: 6503.2
C80: - pirktā sēkla, stādi | D80: 0 | E80: EUR | G80: 576.7
C81: - pirktais mēslojums | D81: 0 | E81: EUR | G81: 1001
C82: - augu aizsardzības līdz. | D82: 0 | E82: EUR | G82: 249.9
C83: - pārējās specif. augkop. izmaksas | D83: 0 | E83: EUR | G83: 495.8
B85: 115 | C85: 3.3. Lopkopības izmaksas: | D85: =Aprēķini!G89 -> 0 | E85: EUR | G85: 18769.6
B86: 116 | C86: Pirktā lopbarība | D86: 0 | E86: EUR | G86: 7294.7
B87: 118 | C87: Apsēklošana un veterinārās izmaksas | D87: 0 | E87: EUR | G87: 992.6
B88: 119 | C88: Pārējās specif. lopkop. izmaksas | D88: 0 | E88: EUR | G88: 1257.4
B90: 122 | C90: 3.4. Pieskaitāmās izmaksas | D90: =SUM(D91:D95) -> 0 | E90: EUR | G90: =SUM(G91:G95) -> 12540.5
B91: 123 | C91: - Ēku un tehnikas uzturēšana | D91: 0 | E91: EUR | G91: 3535.4
B92: 124 | C92: - Degviela, smērvielas | D92: 0 | E92: EUR | G92: 4630.4
B93: 125 | C93: - Elektrība, apkure | D93: 0 | E93: EUR | G93: 1389.5
B94: 126 | C94: - Pakalpojumi, tehnikas pakalpojumi | D94: 0 | E94: EUR | G94: 795
B95: 127 | C95: - Pārējās pieskaitāmās izmaksas | D95: 0 | E95: EUR | G95: 2190.2
B97: 128 | C97: 3.5. Nolietojums | D97: =SUM(D98:D100) -> 0 | E97: EUR | G97: 5883.9
B98: 129 | C98: - Ēku un būvju nolietojums un norakstīšana | D98: 0 | E98: EUR | G98: 1074
B99: 130 | C99: - Mašīnu un iekārtu nolietojums un norakstīšana | D99: 0 | E99: EUR | G99: 4284.7
B100: 131 | C100: - Pārējo pamatlīdzekļu nolietojums un norakstīšana | D100: 0 | E100: EUR | G100: 525.2
B102: 134 | C102: 3.6. Ārējās izmaksas | D102: =SUM(D103:D106) -> 0 | E102: EUR | G102: 4821.53
B103: 135 | C103: - Algotais darbaspēks | D103: 0 | E103: EUR | G103: 3898.03
B104: 136 | C104: - Nomas maksa | D104: 0 | E104: EUR | G104: 378.64
B105: 137 | C105: - Procentu maksājumi | D105: 0 | E105: EUR | G105: 544.86
B106: 138 | C106: - Pārējās ārējās izmaksas | D106: 0 | E106: EUR | G106: 0
C108: 3.7. Nodokļi | D108: =SUM(D109:D111) -> 0 | E108: EUR | G108: 458.85
B109: 148 | C109: - Ražošanas nodokļi un nodevas | D109: 0 | E109: EUR | G109: 381.59
B110: 148A | C110: - Nekustamā īpašuma nodoklis | D110: 0 | E110: EUR | G110: 0
B111: 149 | C111: - Ienākuma nodoklis | D111: 0 | E111: EUR | G111: 77.26
C113: 4. Atbalsti
C115: Atbalsti kopā | D115: =SUM(D116:D119) -> 0 | E115: EUR | G115: 14852.53 | I115: Neietekmē pašizmaksas rezultātu! Informācija jānorāda tikai tad, ja vēlas uzzināt atbalsta apjomu uz 1 kg saražotā piena. Aprēķinu ceļā ar koeficientu palīdzību no saimniecības kopējā atbalsta apjoma tiks nodalīts atbalsts, kurš attiecināms uz piena nozari - skatīt pie rezultātiem - atbalsta maksājumi pienam.
B116: 139+140+141 | C116: - Atbalsti par platībām VPM Vienotais platības maksājums MLA Maksājums lauksaimniekam mazāk labvēlīgos apvidos BLA Bioloģiskās lauksaimniecības attīstība BDUZ Bioloģiskās daudzveidības uzturēšana zālājos RLZP Rugāju lauks ziemas periodā BI Buferjoslu ierīkošana ALA Atdalītais PPVA par laukaugu platībām APL Atdalītais PPVA par platībām JAL Atdalītais PPVA īpašos gadījumos jaunajiem lauksaimniekiem | D116: 0 | E116: EUR | G116: 6240.22
C117: - Atbalsti piena lopkopībā Ciltsdarba maksājumi piensaimniecībai, t.sk. ārkārtas atbalsts ILA Īpašais atbalsts par pienu | D117: 0 | E117: EUR | G117: 545
B118: 142 | C118: - Atbalsti lopkopībā Ciltsdarba maksājumi lokopībai, t.sk. ārkārtas atbalsts AKEL Atdalītais PPVA par nokautiem vai eksportētiem liellopiem ALA Atdalītais PPVA par liellopiem APKV Atdalītais PPVA par pienu LDGRS Lauksaimniecības dzīvnieku ģenētisko resursu saglabāšana ILA Īpašais atbalsts par liellopiem | D118: 0 | E118: EUR | G118: 3808
B119: 143+144+145 | C119: - Pārējie atbalsti lauksaimniecībā kuri iepriekš nav minēti. t.sk: - citu nozaru specifiksi atbalsti (piem. IKC Īpašais atbalsts cietes kartupeļu kvalitātes uzlabošanai) - investīciju atbalsts - u.c. | D119: 0 | E119: EUR | G119: 4259.77
C122: Rezultāti
B123: 97 | C123: Piena pārdošanas cena | D123: =Aprēķini!G57 -> 0 | E123: EUR/t | G123: 301.1857
B124: 38 | C124: Piena vidējais izslaukums no govs | D124: =Aprēķini!G23 -> 0 | E124: t/govs | G124: 5.79
D126: Uz realizēto pienu EUR/kg | G126: Uz realizēto pienu EUR/kg | I126: Pašizmaksa: 2013.gadā, vidēji valstī piena saimniecībā, kurā ir 16 slaucamās govis
C127: Piena pašizmaksa | D127: =Aprēķini!R141 -> 0 | G127: 0.38484252
C128: Piena pašizmaksa neieskaitot ģimenes d-spēka izmaksas | D128: =Aprēķini!R142 -> 0 | G128: 0.28585552
C130: Atbalsta maksājumi pienam | D130: =Aprēķini!R144 -> 0 | G130: 0.095247036
...

Sheet Rezultāti
E2: Uz saimniecības datu ievadi
E3: Uz aprakstu
E5: Rezultāti - Jūsu saimniecības piena nozares rādītāji
E7: Ja vēlaties kādā pozīcijā ievadīt mainīt summu, nospiediet "Uz saimniecības datu ievadi", precizējiet saimniecības datus, automātiski aprēķināsies jauna summa. Ja vēlaties redzēt kā mainīsies pašizmaksa, ja izmainīsiet kādu pozīciju, ierakstiet izmainīto pozīcijas lielumu baltajā šūnā, alternatīvie rezultāti parādīsies blakus automātiski aprēķinātajiem.
I9: Ja maina izmaksas
F11: Uz realizēto pienu | G11: Uz saražoto pienu | I11: Uz realizēto pienu | K11: Uz saražoto pienu
E13: Piena pašizmaksa, EUR/kg
B14: Skatīt rezultātus | E14: - bez atbalsta maksājumiem | F14: =Aprēķini!R141 -> 0 | G14: =Aprēķini!Q141 -> 0 | I14: =Aprēķini!U141 -> 0 | K14: =Aprēķini!T141 -> 0
E15: - bez atbalsta maksājumiem un nealgotā darbaspēka izmaksām | F15: =Aprēķini!R142 -> 0 | G15: =Aprēķini!Q142 -> 0 | I15: =Aprēķini!U142 -> 0 | K15: =Aprēķini!T142 -> 0
E16: Atbalsta maksājumi, EUR/kg
B17: Skatīt rezultātus | E17: Visi atbalsta maksājumi | F17: =Aprēķini!R145 -> 0
E20: Saražotā piena apjoms, kg | F20: =Aprēķini!Q136 -> 0
E24: Realizētā piena apjoms, kg | F24: =Aprēķini!R136 -> 0
E25: Pašpatēriņa piens, % no saražotā piena | F25: =Aprēķini!Q137 -> 0
E27: Ieņēmumi
E29: Realizācija, piens | F29: =Aprēķini!Q53 -> 0 | G29: EUR
E30: Realizācija, cita piena liellopu produkcija | F30: =Aprēķini!Q54 -> 0 | G30: EUR
E32: Realizācija, piena lopi un to gaļa | F32: =Aprēķini!Q55 -> 0 | G32: EUR
E35: IEŅĒMUMI KOPĀ | F35: =Aprēķini!Q52 -> 0 | G35: EUR
E37: Izmaksas
E39: Pirktās barības izmaksas. | F39: =Aprēķini!Q89 -> 0 | G39: EUR
E40: Apsēklošana un veterinārās izmaksas | F40: =Aprēķini!Q90 -> 0 | G40: EUR
E41: Pārējās lopkopības materiālās izmaksas | F41: =Aprēķini!Q91 -> 0 | G41: EUR
E43: Piena lopu pirkšanas izmaksas | F43: =Aprēķini!Q76 -> 0 | G43: EUR
E45: Lopkopībā izmantotās augkopības produkcijas tiešās izmaksas | F45: =Aprēķini!Q86 -> 0 | G45: EUR
E47: Lopkopības izmaksas kopā | F47: =Aprēķini!Q83+Aprēķini!Q92 -> 0 | G47: EUR | I47: =Aprēķini!R83+Aprēķini!R92 -> 0
E49: Ēku un tehnikas uzturēšana | F49: =Aprēķini!Q98 -> 0 | G49: EUR
E50: Degviela, smērvielas | F50: =Aprēķini!Q99 -> 0 | G50: EUR
E51: Elektrība, apkure | F51: =Aprēķini!Q100 -> 0 | G51: EUR
E52: Pakalpojumi, tehnikas noma | F52: =Aprēķini!Q101 -> 0 | G52: EUR
E53: Vadības izmaksas | F53: =Aprēķini!Q102 -> 0 | G53: EUR
E54: Pieskaitāmās izmaksas kopā | F54: =Aprēķini!Q103 -> 0 | G54: EUR | I54: =Aprēķini!R103 -> 0
E56: Ēku un būvju nolietojums | F56: =Aprēķini!Q104 -> 0 | G56: EUR
E57: Mašīnu un iekārtu nolietojums | F57: =Aprēķini!Q105 -> 0 | G57: EUR
E58: Pārējo pamatlīdzekļu nolietojums un norakstīšana | F58: =Aprēķini!Q106 -> 0 | G58: EUR
E59: Nolietojums kopā | F59: =Aprēķini!Q107 -> 0 | G59: EUR | I59: =Aprēķini!R107 -> 0
E61: Algotais darbaspēks | F61: =Aprēķini!Q108 -> 0 | G61: EUR
E62: Ģimenes darbaspēka ieguldījums | F62: =Aprēķini!Q109 -> 0 | G62: EUR
E63: Noma | F63: =Aprēķini!Q110 -> 0 | G63: EUR
E64: Procentu maksājumi | F64: =Aprēķini!Q111 -> 0 | G64: EUR
E65: Ārējās izmaksas kopā | F65: =Aprēķini!Q112 -> 0 | G65: EUR | I65: =Aprēķini!R112 -> 0
E67: Nodokļi | F67: =Aprēķini!Q115 -> 0 | G67: EUR
B69: Skatīt rezultātus | E69: IZMAKSAS KOPĀ | F69: =Aprēķini!Q128 -> 0 | G69: EUR | I69: =Aprēķini!R128 -> 0

Sheet Skaidrojumi
A1: Rinda | B1: Skaidrojums | C1: _
A2: 3 | B2: Algotais darbaspēks - tie ir darbinieki: - kuriem ir darba tiesiskās attiecības ar saimniecību, - kuri nav īpašnieka ģimenes locekļi, - kuriem tiek aprēķināta darba alga un veikti nodokļu maksājumi. Visu algoto darbinieku kopējais gadā nostrādāto stundu skaits, taču aprēķinā liekot ne vairāk par 1840 stundām uz vienu darbinieku.
A3: 5 | B3: Ģimenes un nealgotais darbaspēks - tie ir īpašnieka ģimenes locekļi, kuri saimnieciskā gada beigās saņem noteiktu peļņas daļu vai cita veida materiālu labumu un kuru ieguldītais darbs netiek pilnībā atalgots. Tas var būt īpašnieks vai īpašnieka laulātais, regulāri vai neregulāri nodarbinātas personas. Visu algoto darbinieku kopējais gadā nostrādāto stundu skaits, taču aprēķinā liekot ne vairāk par 1840 stundām uz vienu darbinieku.
A4: 6 | B4: Darba samaksu summa visiem nodarbinātajiem, t.sk. ģimenes un nealgotajam darbaspēkam, kopā par gadu - tajā ieskaita darba algu, prēmijas, peļņas daļu, valsts sociālās apdrošināšanas obligātās iemaksas un visas darba algai pielīdzināmās izmaksas, t.sk. arī atalgojumu natūrā, piemēram, darba devēja segtās izmaksas par dzīvokli, uzturu, apģērbu, īpašumā nodotie uzņēmuma izstrādājumi, izmaksas sakarā ar iekārtošanu darbā, apdrošināšanu pret nelaimes gadījumiem u.c.
A5: 7 | B5: Zeme īpašumā vai pastāvīgā lietošanā. Pie kopējā LIZ pieskaita arī ģimenes dārziņus – tās ir platības, kurās tiek audzēta produkcija personīgajam patēriņam; parasti šīs platības ir atdalītas no pārējās lauksaimniecības zemes.
A6: 8 | B6: Platības, kuras nepieder saimniecībai, bet par kurām uz līguma pamata tiek maksāta nomas maksa, kas parasti ir iepriekš noteikta un nav atkarīga no darbības rezultātiem. Neiekļauj platības: - no kurām tiek nopirkta tikai raža: ja pērk ražu no lopbarības platībām, samaksu par to uzrāda rindā Pirktā lopbarība; ja pērk ražu pārdodamajām (tirgus) kultūrām, piemēram, graudaugiem, kartupeļiem u.c., tad rindā Pārējās specifiskās augkopības izmaksas, - kuru nomas laiks ir mazāks par vienu gadu vai gadījuma rakstura noma. Ja kādai zemes platībai ir divi apsaimniekotāji, tad šī zeme jāieraksta kā īpašnieka vai nomas zeme, vadoties pēc savstarpēji noslēgtā līguma.
A7: 9 | B7: Citiem iznomātā zeme. Neiekļauj platības: - no kurām tiek pārdota tikai raža: ja pārdod ražu no lopbarības platībām, samaksu par to uzrāda pie augkopības produkcijas, rindas kods 52. - kuru nomas laiks ir mazāks par vienu gadu vai gadījuma rakstura noma.
A8: 23 | B8: Neieskaita - lopbarības saknes un kāpostus, kas audzēti sēklai. Ieskaita: - Lopbarības saknes un kāposti lopbarībai; – Kukurūza lopbarībai; – Pākšaugi skābbarībai un zaļmasai: āboliņš, lucerna, vīķi, amoliņš, saldā lupīna; – Citas lopbarības kultūras: galega, graudaugi, kas tiek novākti zaļi skābbarībai un zaļmasai.
A9: 25 | B9: Ieskaita: – Zālāji aramzemē: zālāji, kas sēti aramzemē uz 1 līdz 5 gadiem un ir iekļauti augu sekas sistēmā. – Kultivētas pļavas, ganības (ilggadīgie zālāji): zālāji, kuri aug pļavās un ganībās vairāk nekā 5 gadus un kuru platības nav iekļautas augu sekas sistēmā. – Dabīgās pļavas, ganības (ilggadīgie zālāji): nekultivētas un nemēslotas pļavas un ganības. – Pļavas un ganības, ko neizmanto produkcijas ieguvei (saimniecībā nav mājlopu), bet tās tiek uzturētas labā lauksaimniecības un vides stāvoklī un par kurām saņem vienoto platības maksājumu (VPM).
A10: 38 | B10: - Slaucamās govis ir govis, kas ir atnesušās un tiek turētas piena ražošanai
A11: 36
A12: 39 | B12: – Jaunlopi ir buļļi un teles, kas jaunāki par gadu.
A13: 40 | B13: - Buļļi no 1 līdz 2 gadiem: ieskaita arī vaislas buļļus. - Teles no 1 līdz 2 gadiem: neieskaita tās, kas jau atnesušās.
A14: 41 | B14: - Buļļi, vecāki par 2 gadiem – Vaislas teles, vecākas par 2 gadiem: kas vēl nav atnesušās un ir paredzētas vaislai. - Nobarojamās teles, vecākas par 2 gadiem: kas nav atnesušās un nav paredzētas vaislai. - Brāķētas slaucamās govis. - Zīdītājgovis: atnesušās govis, jaunākas vai vecākas par 2 gadiem, kuras paredzētas tikai teļu atražošanai un kuru piens nav paredzēts pārdošanai, patēriņam pārtikā, ieskaita arī brāķētās zīdītājgovis.
A15: 42 | B15: - Nobarojamās cūkas: cūkas svarā virs 20 kg, izņemot kuiļus un brāķētās cūkas. - Sivēnmātes: svarā virs 50 kg, izņemot brāķētās sivēnmātes. - Pārējās cūkas: kuiļi un brāķētās cūkas, kā arī vaislas sivēnmātes svarā no 20 līdz 50 kg.
A16: 43 | B16: - Sivēni svarā līdz 20 kg
A17: 44 | B17: - Aitu mātes ir aitas, vecākas par gadu un atnesušās, kuras paredzētas vaislai. - Pārējās aitas: visu vecumu aitas, izņemot aitu mātes. - Kazu mātes: paredzētas vaislai. - Pārējās kazas: izņemot kazu mātes.
A18: 45 | B18: - Vistas gaļai: izņemot dējējvistas un brāķētās vistas, neiekļauj cāļus. – Dējējvistas: jaunās vistiņas (kas nav vēl sākušas dēt), dējējvistas un brāķētās dējējvistas, neiekļauj cāļus. - Pīles, zosis, pārējie putni: iekļauj arī tītarus, paipalas, fazānus, strausus, neiekļauj cāļus.
A19: 46 | B19: - Zirgi: pārdošanai audzētie, darba un pārējie zirgi.
A20: 47 | B20: - Trušu mātes. Neieskaita pārējos trušus.
A21: 51 | B21: Pārskata gadā saimniecībā saražoto lauksaimniecības produktu vērtība, neatkarīgi no izlietojuma (t.sk. pārdotā, personīgais patēriņš, izlietotais lopkopībā, augkopībā, pārstrādātais)
A22: 52 | B22: Pārskata gadā saimniecībā saražoto augkopības produktu vērtība (t.sk. pārdotā, personīgais patēriņš, izlietotais lopkopībā, augkopībā, pārstrādātais)
A23: 68 | B23: Pārskata gadā saimniecībā saražoto lopkopības produktu vērtība (t.sk. pārdotā, personīgais patēriņš, izlietotais lopkopībā, augkopībā, pārstrādātais)
... A25: 70 | B25: – Cita lopkopības produkcija (izņemot gaļu): aitas un ķēves piens, ādas, subprodukti, bišu vasks, embriji, biohumuss un ieņēmumi par zirgu pārošanu.
A26: 97
A27: 102
A28: 105
A29: 108 | B29: - Pirktā sēkla, stādi un to apstrāde (neieskaitot ilggadīgos stādījumus): ieskaita arī pirktos puķu sīpolus un gumus, kā arī sēklas apstrādāšanas izmaksas (kodināšana, šķirošana utt.), neieskaita jaunu koku un krūmu stādījumu izveidošanas izmaksas, jo tās uzskata par ieguldījumiem - Pašražotā sēkla un stādi - augkopībā izmantoto pašu saimniecībā ražoto augkopības produktu vērtība. – Pirktie minerālmēsli un augsnes uzlabotāji - tikai pirktie minerālmēsli un augsnes uzlabotāji, kā kūdra, kaļķis. Ja daļa no šiem minerālmēsliem un augsnes uzlabotājiem tiek izmantoti mežsaimniecībā, tad attiecīgās izmaksas nav jāiekļauj. – Pirktie kūtsmēsli u.c. organiskais mēslojums: tikai pirktie kūtsmēsli un cits organiskais mēslojums (arī komposts). – Pašražotais mēslojums (kūtsmēsli, komposts): uzrāda zemes ielabošanai izlietotos saimniecībā saražotos kūtsmēslus, kompostu un biohumusu. – Augkopībā izmantotā pašražotā produkcija – salmi u.c.: uzrāda augkopībā izmantoto pašražoto salmu un komposta izmaksas, ja tādas izmaksas saimniecībā tiek uzskaitītas. - Augu aizsardzības līdzekļi: augu aizsardzības līdzekļu izmaksas. Ja daļa no šiem līdzekļiem tiek izmantoti mežsaimniecībā, tad attiecīgās izmaksas nav jāiekļauj. - Pārējās specifiskās augkopības izmaksas - izmaksas, kas saistītas ar augkopību un netiek atsevišķi uzrādītas citos izmaksu posteņos: iepakojamais un sienamais materiāls, zemes analīžu izmaksas, segumi no sintētiska materiāla, piemēram, zemeņu audzēšanai, izmaksas produkcijas glabāšanai un nosūtīšanai tālākai pārstrādei un pārdošanai (iekļaujot izmaksas īslaicīgai ēku nomai), augošas ražas pirkšana pārdošanai, īslaicīga (mazāk nekā 1 gads) platību noma noteiktu laukaugu audzēšanai un pārdošanai.
A30: 115
A31: 116 | B31: - Pirktā koncentrētā un pārējā lopbarība, pakaiši u.c. ganību mājlopiem; - Pirktā lopbarība, pakaiši u.c. cūkām, mājputniem, trušiem, bitēm, zivīm u.c. Pie pirktās lopbarības pieskaita: iepirkto sienu un salmus, lopbarības raušus, kombinēto lopbarību, graudus, piena produktus, zivju miltus, minerālbarību u.c. ieskaita arī samaksu par ganību izmantošanu, izmaksas lopbarības iegādei pirms ražas ienākšanās, kā arī dažādas piedevas lopbarības konservēšanas vajadzībām, u.c.
A32: 117 | B32: - Pašražotā lopbarība ganību mājlopiem; - Pašražotā lopbarība cūkām, mājputniem, trušiem, bitēm, zivīm u.c. Pie pašražotās lopbarības pieskaita pārdodamu saimniecības produkciju, kuru izmanto lopbarībai un novērtē kā pašražoto produkciju.
A33: 118 | B33: - Veterināro pakalpojumu un medikamentu izmaksas, mākslīgā apsēklošana.
A34: 119 | B34: - Pārējās specifiskās lopkopības izmaksas: piena pārraudzība, kastrācija, ganāmpulka reģistrācija ciltsgrāmatās, ar lopkopību saistīto mašīnu un iekārtu mazgāšanas līdzekļi, iepakojuma materiāls, lopkopības produkcijas glabāšana un nosūtīšana pārstrādes vajadzībām, lopkopības produkcijas sagatavošana pārdošanai un uzglabāšanai, ieskaitot īslaicīgu noliktavu nomu, lopkopības produkcijas mārketinga izmaksas.
A35: 122
A36: 123 | B36: - Zemes un ēku uzturēšanas izmaksas: Ēku un zemes ielabošanas objektu ekspluatācijas izmaksas, ieskaitot siltumnīcu un citu segto platību inventāru, celtniecības materiālus; neuzrāda izmaksas lielākiem remontdarbiem, kas palielina objekta vērtību vai jaunus kapitālieguldījumus. Izmaksas, kas ietver sīkus mašīnu un iekārtu remontus, kuri nepalielina šo mašīnu un iekārtu vērtību vai būtiski neizmaina iekārtu vai mašīnu jaudas, arī sīkā inventāra iegādi, piemēram, riepas, aizsargtērpus veselībai kaitīgu darbu veikšanai, šķīdumus iekārtu mazgāšanai un tīrīšanai.
A37: 124 | B37: Tikai saimniecības vajadzībām patērētā degviela un smērvielas - neieskaita personīgajam patēriņam izlietoto. Degvielas izmaksās uzrāda tikai faktiski samaksāto akcīzes nodokli.
A38: 125 | B38: – Elektrība: pirktās elektroenerģijas patēriņš uzņēmuma vajadzībām. – Pirktais kurināmais: pirktā kurināmā patēriņš uzņēmuma vajadzībām, ieskaitot siltumnīcu apkurināšanu. – Pašražotais kurināmais: pašražotā kurināmā patēriņš uzņēmuma vajadzībām. – Maksa par ūdeni un tā piegādi: samaksa par ūdeni un tā piegādi, ieskaitot apūdeņošanu.
A39: 126 | B39: - Lauksaimniecības pakalpojumi, iekārtu un tehnikas noma: uzrāda samaksu par augsnes apstrādi, sēšanu, mēslošanu, apstrādi ar augu aizsardzības līdzekļiem u.c. Ja samaksā par saņemtajiem pakalpojumiem bez degvielas ir iekļauti arī citi materiāli (augu aizsardzības līdzekļi, mēslojums vai sēklas) un tos ir iespējams novērtēt, tad tos uzskaita pie atbilstošajām materiālajām izmaksām.
A40: 127 | B40: – Maksa par ūdeni un tā piegādi: samaksa par ūdeni un tā piegādi, ieskaitot apūdeņošanu. – Lauksaimniecības apdrošināšana (sējumu, mājlopu u.c.): apdrošināšanas prēmijas par lauksaimniecības produkcijas vai tās komponentu (cenu, ražu, izmaksu) apdrošināšanu. Iekļauj arī visas saimniecības apdrošināšanas prēmiju, ja nav atdalāma prēmijas daļa, kas attiecas uz pārējām nozarēm (nelauksaimnieciskā daļa). Ja nelauksaimnieciskā daļa ir atdalāma, tad to uzrāda pie pārējās apdrošināšanas. - Pārējā apdrošināšana (izņemot darbinieku apdrošināšanu): visas apdrošināšanas prēmijas, kuras attiecas uz pārējo apdrošināšanu – ēku, tehnikas un transportlīdzekļu apdrošināšana, izņemot lauksaimniecības apdrošināšanu. Darba ņēmēju apdrošināšanu pret nelaimes gadījumiem uzrāda rindā Algotā darbaspēka izmaksas. – Uz pārskata gadu attiecinātie iepriekšējo periodu izdevumi – Pārējās pieskaitāmās izmaksas, izņemot pašražotās produkcijas krājumu starpību: telefona, grāmatvedības, biroja uzturēšanas u.c. izmaksas, arī ēku īslaicīgas (mazāk par 1 gadu) nomas maksas, pārdošanas izmaksas, zaudējumi no valūtas kursa svārstībām, soda naudas.
A41: 128
A42: 129 | B42: - Ēku un būvju nolietojums
A43: 130 | B43: - Mašīnu un iekārtu nolietojums
A44: 131 | B44: – Citu pamatlīdzekļu nolietojums – Izslēgto pamatlīdzekļu atlikusī vērtība: uzrāda pārdoto un norakstīto pamatlīdzekļu atlikušo vērtību
A45: 134
A46: 135 | B46: - Algotā darbaspēka izmaksas: ieskaita darba algu, prēmijas, dalīšanos peļņā, valsts sociālās apdrošināšanas obligātās iemaksas un visas darba algai pielīdzināmās izmaksas, t.sk. arī atalgojumu natūrā, piemēram, dzīvokli, uzturu, apģērbu, uzņēmuma izstrādājumus, izmaksas sakarā ar iekārtošanu darbā, apdrošināšanu pret nelaimes gadījumiem u.c.
A47: 136 | B47: – Zemes nomas maksa: samaksa par nomāto zemi natūrā vai naudā, arī izmaksas, kuras ir veicis nomnieks īpašnieka vietā, ieskaitot īpašnieka vietā samaksāto nekustamā īpašuma nodokli. – Pārējā nomas maksa: samaksa par nomātām ēkām vai kvotām natūrā vai naudā, neieskaita īres maksu par dzīvojamo māju.
A48: 137 | B48: - Procentu maksājumi
A49: 139 | B49: - ES vienotais platības maksājums
A50: 140 | B50: - Atbalsts par teritorijām ar dabas ierobežojumiem (kādreizējais MLA);
A51: 141 | B51: - Subsīdijas augkopībai
A52: 142
A53: 143 | B53: - Pārējās subsīdijas
A54: 144 | B54: - Kredītprocentu subsīdijas
A55: 145 | B55: - Subsīdijas ieguldījumiem
A56: 148 | B56: Nekustamā īpašuma nodoklis, riska nodeva, dabas resursu, autotransporta, subsidētās elektroenerģijas nodoklis, arī akcīzes nodoklis saimniecībām, kas nodarbojas ar akcīzes preču pārdošanu. Šeit neiekļauj akcīzes nodokļa kompensāciju par dīzeļdegvielu.
A57: 149 | B57: – Aprēķinātais ienākuma nodoklis no saimnieciskās darbības par pārskata gadu - Mikrouzņēmuma nodoklis

Sheet Aprēķini
B1: Rādītājs | C1: 2013.gads | G1: Ievadi savas saimniecības rādītājus | Q1: Saimniecība
P2: Piena lopu skaits (NMV) | Q2: =G24*$A18+G27*$A21+G30*$A24+G33*$A27+G35*$A29 -> 0
B3: Saimniecību skaits | C3: 373 | F3: Algotā darbasp.vid.atalgojums stundā | G3: =G108/G6 -> #DIV/0! | J3: =10601/G7 -> #DIV/0! | O3: =J3/G3 -> #DIV/0! | P3: Kopējais lopu skaits (NMV) | Q3: =G24*$A18+G26*$A20+G27*$A21+G29*$A23+G30*$A24+G32*$A26+G33*$A27+G34*$A28+G35*$A29+G36*$A30+G38*$A32+G41*$A35+G42*$A36+G40*$A34+G39*$A33+G37*$A31 -> 0
B4: Pārstāvētās saimniecības | C4: 7993.77 | F4: Lauksaimniecības darbasp. vid.atalgojums stundā | G4: =G5*12/1840 -> 4.2586957 | P4: Liellopu skaits (NMV) | Q4: =G24*$A18+G26*$A20+G27*$A21+G29*$A23+G30*$A24+G32*$A26+G33*$A27+G34*$A28+G35*$A29+G36*$A30 -> 0
B5: Reģions | F5: Vidējā mēneša darba alga lauksaimniecībā 2014.gadā (CSP) | G5: 653 | I5: mērvienība par kārtējo gadu | P5: Ganāmo lopu skaits (NMV) | Q5: =G24*$A18+G26*$A20+G27*$A21+G29*$A23+G30*$A24+G32*$A26+G33*$A27+G34*$A28+G35*$A29+G36*$A30+G41*$A35+$A33*G39 -> 0
B6: Specializācija | C6: 41 | E6: Darbaspēks | F6: Algotā darbasp.ieguldījums - stundas gadā | G6: ='Saimniecības dati'!D42 -> 0
B7: Ekon. lieluma grupa | F7: Nealgotā darbasp. Ieguldījums - stundas gadā | G7: ='Saimniecības dati'!D43 -> 0
B8: Ekonomiskais lielums | C8: 34605.59 | F8: Kopējais darbaspēka ieguldījums - LDV | G8: =SUM(G9:G10) -> 0 | I8: Regulāri nodarbinātām personām, kas saimniecībā nav nostrādājušas pilnu gadu, darbaspēka ieguldījumu cilvēkgados aprēķina: Nostrādātās stundas gadā / 1840 stundas | S8: =G8*1840 -> 0
B9: Algotā darbaspēka ieguldījums, LDV | C9: 0.62 | F9: Algotā darbasp. ieguld. - LDV | G9: =G6/1840 -> 0 | S9: =G9*1840 -> 0
B10: t.sk. lauksaimn., LDV | C10: 0.61 | F10: Nealgotā darbasp. ieguld. - LDV | G10: =G7/1840 -> 0 | S10: =G10*1840 -> 0
B11: t.sk. lauksaimn., stundas | C11: 1151.26 | F11: Nealgotā darbaspēka samaksa | G11: =G12*G7 -> 0 | J11: 10 601 pēc SUDAT datiem
B12: Nealgotā darbaspēka ieguldījums, LDV | C12: 1.5 | F12: Vidējā darbaspēka samaksa stundā | G12: =IFERROR(G3,G4) -> 4.2586957
B13: t.sk. lauksaimn., LDV | C13: 1.5 | E13: Zeme - ha | F13: KOPĒJĀ LIZ | G13: =G14+G18+G22 -> 10 | I13: ha
B14: t.sk. lauksaimn., stundas | C14: 3014.46 | F14: Pašu lopkopības vajadzībām izmantotā LIZ | G14: ='Saimniecības dati'!D13 -> 10 | I14: ha
B15: LIZ īpašumā, ha | C15: 31.44 | F15: - t. sk. aramzemē sētās kultūras - ha | I15: ha
B16: Nomātā LIZ, ha | C16: 21.09 | F16: - t. sk. pļavas un ganības | I16: ha
A17: NMV koeficients | B17: Citiem iznomātā LIZ, ha | C17: 0.83 | F17: - t. sk.ilggadīgie stādījumi | I17: vidēji t/govi | O17: Visi koeficienti
A18: 1 | B18: Apsaimniekotā LIZ, ha | C18: 51.7 | F18: Citām vajadzībām izmantotā LIZ | G18: ='Saimniecības dati'!D14 -> 0 | I18: skaits | O18: K1 | P18: Kultūru platība pašu lopbarībai/kopējā izmantotā LIZ | Q18: =IFERROR(G14/(G14+G18),0) -> 1 | R18: =AA49/AA48 -> 0.79588263 | S18: <- no SUDAT iegūst pēc produkcijas attiecībām
B19: Kvieši | C19: 2.53 | F19: - t. sk. aramzemē sētās kultūras - ha | I19: skaits | O19: K2 | P19: Piena lopi/Visi lopi (NMV) | Q19: =IFERROR(Q2/Q3,0) -> 0
A20: 0.4 | B20: Rudzi | C20: 0.32 | F20: - t. sk. pļavas un ganības | I20: skaits | O20: K3 | P20: Piena lopi/visi liellopi (NMV) | Q20: =IFERROR(Q2/Q4,0) -> 0
A21: 0.4 | B21: Mieži | C21: 2.2 | F21: - t. sk.ilggadīgie stādījumi | I21: skaits | P21: Piena lopi/ganāmie lopi (NMV) | Q21: =IFERROR(Q2/Q5,0) -> 0
B22: Auzas | C22: 2.16 | F22: Neapstrādātā LIZ | G22: ='Saimniecības dati'!D15 -> 0 | I22: skaits | O22: K4_1 | P22: Tehnika lopkopībai/visa tehnika | Q22: =1-'Saimniecības dati'!D47/100 -> 0
A23: 0.7 | B23: Tritikāle | C23: 0.34 | F23: Piena izslaukums no govs | G23: =IFERROR(Q136/G24/1000,0) -> 0 | I23: skaits | O23: K4_2 | P23: Ēkas lopkopībai/visas ēkas | Q23: ='Saimniecības dati'!D46/100 -> 1
A24: 0.7 | B24: Pārējie graudaugi | C24: 0.62 | E24: Mājlopi - vidējais skaits | F24: Slaucamās govis | G24: ='Saimniecības dati'!D19 -> 0 | I24: skaits | O24: K5 | P24: Piena nozares izlaide /kopējā produkcija | Q24: =IFERROR(Q42/Q49,0) -> 0
B25: Pākšaugi | C25: 0.04 | F25: Teļi līdz 1 gadam | G25: =G26+G27 -> 0 | I25: skaits | O25: K5A | P25: Realizētais piens pret kopējo saimn. produkciju | Q25: =IFERROR(J50/G47,0) -> 0
A26: 1 | B26: Kartupeļi | C26: 0.31 | F26: t.sk. Teļi nokaušanai līdz 6 mēnešu vecumam | G26: ='Saimniecības dati'!D21 -> 0 | I26: skaits | O26: K5C | P26: Lopkopība-lopkopībai starppārstrādes koeficients | Q26: =IFERROR(1+K50/(G49-K50-L51),0) -> 0
A27: 0.8 | B27: Rapsis | C27: 0.28 | F27: t.sk. Pārējie jaunlopi jaunāki par gadu | G27: ='Saimniecības dati'!D22 -> 0 | I27: skaits | O27: K5D | P27: Augkopība - lopkopībai starppārstrādes koeficients | Q27: =IFERROR(1+K48/G49,0) -> 0
A28: 0.8 | B28: Pārējās kultūras | C28: 0.05 | F28: Jaunlopi vecāki par gadu | G28: =G29+G30 -> 0 | I28: skaits | O28: K5 var | P28: Piena realizācija / kopējā izlaide | Q28: =Q25*Q26*Q27 -> 0
A29: 1 | B29: Dārzeņi, zemenes, ziedi | C29: 0.05 | F29: t.sk. Buļļi no 1 līdz 2 gadiem | G29: ='Saimniecības dati'!D24 -> 0 | I29: skaits | P29: Realizētais piens/ Saražotais piens | Q29: =IFERROR(J50/G50,0) -> 0
A30: 1 | B30: Lopbarības kultūras (aramzemē) | C30: 22.82 | F30: t.sk. Teles no 1 līdz 2 gadiem | G30: ='Saimniecības dati'!D25 -> 0 | I30: skaits | O30: K6 | P30: Piena realizācija / piena lopkopības nozares realizācija | Q30: =IFERROR(Q53/Q52,0) -> 0
A31: 0.3 | B31: Ilggadīgie stādījumi | C31: 0.08 | F31: Pārējie liellopi | G31: =G32+G33+G34+G35+G36 -> 0 | I31: skaits | O31: K6 Var | P31: Piena produkcija / piena lopkopības nozares produkcija | Q31: =IFERROR(Q28/Q24,0) -> 0
A32: 0.027 | B32: Pļavas un ganības | C32: 18.57 | F32: t.sk. Buļļi vecāki par 2 gadiem | G32: ='Saimniecības dati'!D27 -> 0 | I32: skaits | O32: K7_1 | P32: Tehnikas īpatsvars no tehnikas un ēkām | Q32: =IFERROR(Q40/(Q39+Q40),) -> 0
A33: 0.1 | B33: Papuves | C33: 0.73 | F33: t.sk. Audzējamās teles vecākas par 2 gadiem | G33: ='Saimniecības dati'!D28 -> 0 | I33: skaits | O33: K7_2 | P33: Ēku īpatsvars no tehnikas un ēkām | Q33: =IFERROR(Q39/(Q40+Q39),0) -> 0
A34: 0.03 | B34: Neizmantotā LIZ | C34: 0.61 | F34: t.sk. Nobarojamās teles vecākas par 2 gadiem | G34: ='Saimniecības dati'!D29 -> 0 | I34: skaits
A35: 0.8 | B35: Mājlopi - vidējais skaits: | F35: t.sk. Brāķētās slaucamās govis | G35: ='Saimniecības dati'!D30 -> 0 | I35: skaits | P35: Degviela augkopībai (pašu lopkopības ) | Q35: =G14*80 -> 800
A36: 0.02 | B36: Slaucamās govis | C36: 15.96 | F36: t.sk. Zīdītājgovis | G36: ='Saimniecības dati'!D31 -> 0 | I36: skaits | P36: Degviela augkopībai (cita ) | Q36: =G18*100 -> 0
B37: Teļi līdz 1 gadam | C37: 7.96 | F37: Cūkas | G37: ='Saimniecības dati'!D33 -> 0 | I37: EUR | P37: Degviela lopkopībai | Q37: =15*Q3 -> 0
B38: Jaunlopi vecāki par gadu | C38: 5.47 | F38: Sivēni | G38: ='Saimniecības dati'!D34 -> 0 | I38: EUR | P38: Tehniskās izmaksas pienam/tehniskās izmaksas kopā | Q38: =IFERROR(Q19*(Q35+Q37)/(Q35+Q36+Q37),0) -> 0
B39: Pārējie liellopi | C39: 2.11 | F39: Aitas, kazas | G39: ='Saimniecības dati'!D35 -> 0 | P39: Ēku vērtība | Q39: =Q104/0.05 -> 0
B40: Cūkas | C40: 1.07 | F40: Putni (vistas, pīles u.c.) | G40: ='Saimniecības dati'!D36 -> 0 | P40: Tehnikas vērtība | Q40: =Q105/0.2 -> 0
B41: Sivēni | C41: 0.53 | F41: Zirgi | G41: ='Saimniecības dati'!D37 -> 0 | I41: EUR
B42: Aitas, Kazas | C42: 0.73 | F42: Trušu mātes | G42: ='Saimniecības dati'!D38 -> 0 | I42: EUR | P42: Koriģētā piena lopkopības produkcija: | Q42: =SUM(Q43:Q48) -> 0
B43: Putni | C43: 4.92 | I43: EUR | P43: - t. sk. piens | Q43: =G50 -> 0
B44: Zirgi | C44: 0.07 | P44: - t. sk. piena liellopu produkcija | Q44: =G51*Q63 -> 0 | V44: K3
B45: Trušu mātes | C45: 0.28 | G45: Saražots | I45: EUR | J45: Pārdots | K45: Izlietots | M45: Pārējais | P45: - t. sk. realizētie kūtsmēsli no piena lopiem | Q45: =J51*Q62 -> 0 | U45: K2
B46: Bišu saimes | C46: 0.44 | K46: Lopkopībā | L46: Augkopībā | P46: - t.sk.piena lopbarībai izmantotā augkopības produkcija | Q46: =K48*Q62 -> 0 | U46: K2
B47: Vidējās nosacītās mājlopu vienības | C47: 25.28 | E47: Produkcija | F47: Produkcija kopā | G47: =G48+G49+G54 -> 0 | P47: - t.sk.gaļas un lopu realizācija, piena lopi | Q47: =G53*Q63 -> 0 | V47: K3
B48: Ganāmie mājlopu vienības, LLV | C48: 24.83 | F48: Augkopības produkcija: | G48: ='Saimniecības dati'!D53 -> 0 | K48: ='Saimniecības dati'!D54 -> 0 | L48: ='Saimniecības dati'!D55 -> 0 | M48: ='Saimniecības dati'!D56 -> 0 | P48: - t.sk.augkopībā izlietotā piena lopu produkcija | Q48: =-L49*Q62 -> 0 | Z48: Visa saražotā augkopības produkcija | AA48: 9839.9838
B49: Raža no ha - tonnas: | F49: Lopkopības produkcija: | G49: =G50+G51+G53 -> 0 | H49: =H50+H51+H53 -> 0 | I49: =I50+I51+I53 -> #VALUE! | J49: =J50+J51+J53 -> 0 | K49: =K50+K51+K53 -> 0 | L49: =L50+L51+L53 -> 0 | P49: Kopējā produkcija, iekļaujot starppatēriņu | Q49: =G47 -> 0 | R49: =Q49-Q42 -> 0 | Z49: Saražotā augkopības produkcija lopbarībai | AA49: 7831.4722
B50: Kvieši | C50: 3.32 | F50: - t. sk. Piens | G50: ='Saimniecības dati'!D60 -> 0 | J50: ='Saimniecības dati'!D61+'Saimniecības dati'!D63 -> 0 | K50: ='Saimniecības dati'!D62 -> 0
B51: Rudzi | C51: 2.23 | F51: - t. sk. liellopu produkcija | G51: ='Saimniecības dati'!D65 -> 0 | J51: ='Saimniecības dati'!D66 -> 0 | K51: ='Saimniecības dati'!D67 -> 0 | L51: ='Saimniecības dati'!D68 -> 0
B52: Mieži | C52: 2.67 | F52: - no tās kūtsmēsli | I52: EUR | J52: =J51 -> 0 | P52: Kopējie piena nozares produktu realizācijas ieņēmumi | Q52: =SUM(Q53:Q55) -> 0 | R52: =SUM(R53:R55) -> 0
B53: Auzas | C53: 2.47 | F53: Liellopu gaļa un lopi | G53: ='Saimniecības dati'!D69 -> 0 | I53: EUR | J53: ='Saimniecības dati'!D69 -> 0 | P53: Realizācija, piens | Q53: =J50 -> 0 | R53: =IF(ISBLANK(Rezultāti!I27),Aprēķini!Q53,Rezultāti!I27) -> 0
B54: Tritikāle | C54: 2.51 | F54: Pārējā lauksaimniecības produkcija, pārējie nelauksaimnieciskie ieņēmumi | G54: ='Saimniecības dati'!D71 -> 0 | I54: EUR | P54: Realizācija, cita piena liellopu produkcija | Q54: =J51*Q62 -> 0 | R54: =IF(ISBLANK(Rezultāti!I30),Aprēķini!Q54,Rezultāti!I30) -> 0 | U54: K2
B55: Kartupeļi | C55: 18.62 | P55: Realizācija, piena lopu gaļa un lopi | Q55: =G53*Q63 -> 0 | R55: =IF(ISBLANK(Rezultāti!I32),Aprēķini!Q55,Rezultāti!I32) -> 0 | V55: K3
B56: Rapsis | C56: 2.45
B57: Piena izslaukums, t | C57: 5.8 | F57: Piena pārdošanas cena EUR/t | G57: =IFERROR(J50/('Saimniecības dati'!E61+'Saimniecības dati'!E63),0) -> 0 | I57: EUR
B58: Izlaide, EUR: | I58: EUR
B59: Kvieši | C59: 1249.95 | I59: EUR
B60: Rudzi | C60: 121.22 | I60: EUR | O60: Izmantotie koeficienti
B61: Mieži | C61: 821.57 | I61: EUR | O61: K1 | P61: Kultūru platība pašu lopbarībai/kopējā izmantotā LIZ | Q61: =Q18 -> 1
B62: Auzas | C62: 660.35 | O62: K2 | P62: Piena lopi/Visi lopi (NMV) | Q62: =Q19 -> 0
B63: Tritikāle | C63: 116.98 | O63: K3 | P63: Piena lopi/visi liellopi (NMV) | Q63: =Q20 -> 0
B64: Pārējie graudaugi | C64: 272.31 | O64: K4_1 | P64: Tehnika lopkopībai/visa tehnika | Q64: =Q22 -> 0
B65: Pākšaugi | C65: 11.62 | O65: K4_2 | P65: Ēkas lopkopībai/visas ēkas | Q65: =Q23 -> 1
B66: Kartupeļi | C66: 763.94 | O66: K5 | P66: Piena lopkopības nozares realizācija / kopējā izlaide | Q66: =Q24 -> 0
B67: Rapsis | C67: 247.61 | O67: K6 | P67: Piena realizācija / piena lopkopības nozares realizācija | Q67: =Q31 -> 0
B68: Pārējās kultūras | C68: 27.86 | O68: K7_1 | P68: Tehnikas īpatsvars no tehnikas un ēkām | Q68: =Q32 -> 0
B69: Dārzeņi, zemenes, ziedi, sēnes | C69: 101.62 | O69: K7_2 | P69: Ēku īpatsvars no tehnikas un ēkām | Q69: =Q33 -> 0
B70: Ilggadīgās kultūras | C70: 76.65 | O70: K8 | P70: Degvielas koeficients | Q70: =Q38 -> 0
B71: Lopbarība | C71: 5763.17
B72: Augkopības blakusprodukti | C72: 108.23
B73: Liellopu produkcija | C73: 3730.8
B74: Piens | C74: 27162.56
B75: Cūkkopības produkcija | C75: 266.11
B76: Putnkopības produkcija) | C76: 24.78 | E76: Lopu aprite | F76: Liellopu pirkšanas izdevumi EUR | G76: ='Saimniecības dati'!D77 -> 0 | O76: Lopu aprite | P76: Ganāmpulka atjaunošanas izmaksas | Q76: =G76*Q63 -> 0 | R76: =IF(ISBLANK(Rezultāti!I43),Aprēķini!Q76,Rezultāti!I43) -> 0 | V76: K3
B77: Olas | C77: 63.77
B78: Pārējā lopk. produkcija | C78: 895.93
B79: Pārējā lauksaimniecības produkcija | C79: 83.79 | E79: Augkopības tiešās izmaksas | F79: - pirktā sēkla, stādi | G79: ='Saimniecības dati'!D80 -> 0 | O79: Augkopības tiešās izmaksas | P79: - pirktā sēkla, stādi | Q79: =G79*Q61*Q62 -> 0
B80: Lauksaimniecības produkcijas pārstrāde | C80: 124.71 | F80: - pirktais mēslojums | G80: ='Saimniecības dati'!D81 -> 0 | I80: EUR | P80: - pirktais mēslojums | Q80: =G80*Q61*Q62 -> 0
B81: Mežsaimniecības produkcija | C81: 182.18 | F81: - augu aizsardzības līdz. | G81: ='Saimniecības dati'!D82 -> 0 | I81: EUR | P81: - augu aizsardzības līdz. | Q81: =G81*Q61*Q62 -> 0
B82: Pārējo nozaru produkcija | C82: 1668.57 | F82: - pārējās specif. augkop. izmaksas | G82: ='Saimniecības dati'!D83 -> 0 | I82: EUR | P82: - pārējās specif. augkop. izmaksas | Q82: =G82*Q61*Q62 -> 0
B83: Pārējie ieņēmumi | C83: 491.52 | F83: Augkopības izmaksas - bez pašražotajām | G83: =SUM(G79:G82) -> 0 | I83: EUR | P83: Augkopības izmaksas - bez pašražotajām | Q83: =SUM(Q79:Q82) -> 0 | R83: =IF(ISBLANK(Rezultāti!I45),Aprēķini!Q83,Rezultāti!I45) -> 0
B84: Uz pārskata gadu attiecināmās ieguldījumu subsīdijas | C84: 1112.89
B85: tsk.Neto apgrozījums | C85: 32308.88
B86: Izlietots mājsaimniecībā | C86: 1149.61 | E86: Augkopības tiešās izmaksas lopkopībai kopā | O86: Augkopības tiešās izmaksas lopkopībai kopā | Q86: =Q83 -> 0 | R86: =R83 -> 0
B87: Izlietots saimniecībā | C87: 10536.72
B88: Krājumu starpība augkopībā | C88: 385.42
B89: Krājumu starpība lopkopībā | C89: 524.57 | E89: Lopkopības tiešās izmaksas | F89: Lopkopības izmaksas - bez pašražotajām | G89: =G90+G91+G92 -> 0 | O89: Lopkopības tiešās izmaksas | P89: Pirktās barības izmaksas | Q89: =G90*Q62 -> 0 | R89: =IF(ISBLANK(Rezultāti!I39),Aprēķini!Q89,Rezultāti!I39) -> 0 | U89: K2
B90: Neražojošo stādījumu vērtības pieaugums | C90: 1.19 | F90: - pirktā lopbarība | G90: ='Saimniecības dati'!D86 -> 0 | I90: EUR | P90: Apsēklošana un veterinārās izmaksas | Q90: =G91*Q62 -> 0 | R90: =IF(ISBLANK(Rezultāti!I40),Aprēķini!Q90,Rezultāti!I40) -> 0 | U90: K2
B91: Mājlopu pirkšanas izmaksas | C91: -360.04 | F91: - apsēklošana un veterinārās izmaksas | G91: ='Saimniecības dati'!D87 -> 0 | I91: EUR | P91: Pārējās lopkopības materiālās izmaksas | Q91: =G92*Q62 -> 0 | R91: =IF(ISBLANK(Rezultāti!I41),Aprēķini!Q91,Rezultāti!I41) -> 0 | U91: K2
B92: Cena, EUR/t | F92: - pārējās specif. lopkop. izmaksas | G92: ='Saimniecības dati'!D88 -> 0 | I92: EUR | P92: Tiešās lopkopības izmaksas |(bez pašražotās produkcijas) | Q92: =Q89+Q90+Q91 -> 0 | R92: =SUM(R89:R91) -> 0
B93: Kvieši | C93: 173.62
B94: Rudzi | C94: 168.71
B95: Mieži | C95: 171.18 | E95: Tiešās lopkopības izmaksas kopā | O95: Tiešās lopkopības izmaksas kopā | Q95: =Q92 -> 0 | R95: =R92 -> 0
B96: Auzas | C96: 165.75 | V96: =Q98/G98 -> #DIV/0!
B97: Tritikāle | C97: 209.31
B98: Kartupeļi | C98: 241.2 | E98: Pārējās pieskaitāmās izmaksas | F98: Ēku un tehnikas uzturēšana | G98: ='Saimniecības dati'!D91 -> 0 | I98: EUR | O98: Pārējās pieskaitāmās izmaksas | P98: Ēku un tehnikas uzturēšana | Q98: =G98*Q62*(Q69*(Q65+(1-Q65)*Q61)+Q68*(Q64+(1-Q64)*Q61)) -> 0 | R98: =IF(ISBLANK(Rezultāti!I49),Aprēķini!Q98,Rezultāti!I49) -> 0 | T98: K1 | U98: K2 | W98: K4 | Y98: K7
B99: Rapsis | C99: 374.88 | F99: Degviela, smērvielas | G99: ='Saimniecības dati'!D92 -> 0 | I99: EUR | P99: Degviela, smērvielas | Q99: =G99*Q70 -> 0 | R99: =IF(ISBLANK(Rezultāti!I50),Aprēķini!Q99,Rezultāti!I50) -> 0 | T99: K1 | U99: K2 | W99: K4 | Z99: K8 - piedāvājums, akceptēts
B100: Govs piens | C100: 301.67 | F100: Elektrība, apkure | G100: ='Saimniecības dati'!D93 -> 0 | I100: EUR | P100: Elektrība, apkure | Q100: =G100*Q62*(Q65+(1-Q65)*Q61) -> 0 | R100: =IF(ISBLANK(Rezultāti!I51),Aprēķini!Q100,Rezultāti!I51) -> 0 | T100: K1 | U100: K2 | W100: K4
...
