Workbook
Name __DemandLoad: TRUE
Name _1.v.__svērtais_vidējais__2008.g: #REF!
Name _2.v.__svērtais_vidējais__2008.g: #REF!
Name _sid2: #REF!
Name _sid3: #REF!
Name _tab1: '[1]datu ievads1'!#REF!
Name _tab5: #REF!
Name _tab6: #REF!
Name _tab7: #REF!
Name _tab8: #REF!
Name aftCOC: [2]After!$K$272
Name akc_1: #REF!
Name akc_2: #REF!
Name akc_3: #REF!
Name akc_4: #REF!
Name akc_5: #REF!
Name akt_1: #REF!
Name akt_2: #REF!
Name akt_3: #REF!
Name akt_4: #REF!
Name akt_5: #REF!
Name apr_2: [3]Pašizmaksa!$C$43
Name aram_1: #REF!
Name aram_2: #REF!
Name aram_3: #REF!
Name aram_4: #REF!
Name aram_5: #REF!
Name atb_summa_1_1: #REF!
Name atb_summa_1_2: #REF!
Name atb_summa_1_3: #REF!
Name atb_summa_1_4: #REF!
Name atb_summa_1_5: #REF!
Name atb_summa_2_1: #REF!
Name atb_summa_2_2: #REF!
Name atb_summa_2_3: #REF!
Name atb_summa_2_4: #REF!
Name atb_summa_2_5: #REF!
Name atb_summa_3_1: #REF!
Name atb_summa_3_2: #REF!
Name atb_summa_3_3: #REF!
Name atb_summa_3_4: #REF!
Name atb_summa_3_5: #REF!
Name atb_summa_4_1: #REF!
Name atb_summa_4_2: #REF!
Name atb_summa_4_3: #REF!
Name atb_summa_4_4: #REF!
Name atb_summa_4_5: #REF!
Name atb_summa_5_1: #REF!
Name atb_summa_5_2: #REF!
Name atb_summa_5_3: #REF!
Name atb_summa_5_4: #REF!
Name atb_summa_5_5: #REF!
Name atbalsts_1_1: #REF!
Name atbalsts_1_2: #REF!
Name atbalsts_1_3: #REF!
Name atbalsts_1_4: #REF!
Name atbalsts_1_5: #REF!
Name atbalsts_2_1: #REF!
Name atbalsts_2_2: #REF!
Name atbalsts_2_3: #REF!

Sheet Apraksts
C1: Cienījamais lietotāj!
B2: Piena ražošanas pašizmaksas modeli izstrādāja SIA "Latvijas Lauku konsultāciju un izglītības centra" (LLKC) speciālisti sadarbībā ar Latvijas Lauksaimniecības universitātes un Zemkopības ministrijas speciālistiem. Piena pašizmaksas modelis ir veidots, lai tajā varētu izmantot saimniecībā pieejamos visu nozaru kopīgos grāmatvedības datus un nebūtu nepieciešams veidot atsevišķi nodalītu izdevumu uzskaiti par katru no saimniecības darbības nozarēm vai sektoriem. Modelis automātiski nodrošinās piena sektora izmaksu izdalīšanu no kopējām saimniecības izmaksām. Aprēķinos nepieciešama informācija par saimniekošanā izmantotiem lauksaimniecības ražošanas resursiem (lauksaimniecības zeme un dzīvnieki) un informācija par lauksaimniecības produkcijas izlaides vērtību un saņemto atbalsta apjomu. Piena pašizmaksas modelis aprēķina vidējo pašizmaksu par periodu (gadu, pusgadu utt.), tādēļ modelī ievadāmi dati, kas raksturo saimniecības finanšu situāciju par konkrēto laika periodu. Saimniecības datu ievades lapā pa labi no tabulas ir ievadīti piemēra dati. Rezultātu lapā lietotājam ir iespēja aprēķināt pašizmaksu, ja kāds no ievadītajiem rādītājiem tiktu izmainīts. Izmainītais rādītājs jāieraksta baltajā šūnā un tabulas augšējā daļā parādīsies izmainītā pašizmaksa. Ja Jums rodas jautājumi vai komentāri par modeli vai tā darbību, lūdzu, sazinieties ar LLKC Ekonomikas nodaļas speciālistiem Andri Stepanovu vai Raivi Andersonu. Tālrunis 63050576, e-pasti: andris.stepanovs@llkc.lv; raivis.andersons@llkc.lv.
C3: Saimniecības datu ievade
C4: Rezultātu lapa

Sheet Saimniecības dati
C1: Skatīt rezultātus
C2: Uz aprakstu
C4: Kalkulators, lai aprēķinātu piena pašizmaksu saimniecībā
C6: Lūdzu ievadiet Jūsu saimniecības datus par gadu. Jāaizpilda tabulas gaišās šūnas. Zaļi iekrāsotās šūnas aprēķināsies automātiski.
C8: 1. Lauksaimniecības resursi | G8: Piemērs | I8: Norādīti 2013.gada vidējās piena saimniecības rezultāti (vid. saimn.16 slaucams govis) Avots: SUDAT
C10: 1.1. Lauksaimniecībā izmantojamā zeme
B12: 7+8-9 | C12: Kopējā apsaimniekotā LIZ | D12: =Aprēķini!G13 -> 10 | E12: ha | G12: 52.27
B13: 7 | C13: - t.sk. LIZ, ko izmanto pašu vajadzībām - ganīšanai un barības iegūšanai | D13: 10 | E13: ha | G13: 40.7
B14: 8 | C14: - t.sk. LIZ, ko izmanto pārējām lauksaimnieciskās ražošanas vajadzībām - pārdošanai u.c. | D14: 0 | E14: ha | G14: 10.4
B15: 9 | C15: - t.sk. papuves un neizmantotā LIZ | D15: 0 | E15: ha | G15: 1.2
C17: 1.2. Mājlopi - vidējais lopu skaits gadā
C19: Slaucamās govis | E19: skaits | G19: 16.19 | I19: Kā uzskaitīt mājlopus? Katra mājlopa vidējais skaits gadā = mājlopa uzturēšanās ilgums (dienas vai mēneši) / (365 vai 12) Piemēram: Saimniecībā ir turētas - viena govs 365 dienas un otra govs 150 dienas. Aprēķina (365 + 150) / 365 = 1,41 (vidējais govju skaits gada laikā) Piemēram: Saimniecībā ir turētas - viena govs 12 mēneši un otra govs 5 mēneši. Aprēķina (12 + 5) / 12 = 1,41 (vidējais govju skaits gada laikā)
B20: 39 | C20: Teļi līdz 1 gadam: | D20: =SUM(D21:D22) -> 0 | E20: skaits | G20: 8.4
A21: citi | C21: - t.sk. teļi nokaušanai līdz 6 mēnešu vecumam | D21: 0 | E21: skaits | G21: 0.8
A22: piena | C22: - t.sk. pārējie jaunlopi jaunāki par gadu | D22: 0 | E22: skaits | G22: 7.6
B23: 40 | C23: Jaunlopi vecāki par gadu: | D23: =SUM(D24:D25) -> 0 | E23: skaits | G23: 5.69
A24: citi | C24: - t.sk. buļļi no 1 līdz 2 gadiem, ieskaita arī vaislas buļļus | D24: 0 | E24: skaits | G24: 0.82
A25: piena | C25: - t.sk. teles no 1 līdz 2 gadiem, kas jau atnesušās | D25: 0 | E25: skaits | G25: 4.87
B26: 41 | C26: Pārējie liellopi: | D26: =SUM(D27:D31) -> 0 | E26: skaits | G26: 2.26
A27: citi | C27: - t.sk. buļļi vecāki par 2 gadiem | D27: 0 | E27: skaits | G27: 0.1
A28: piena | C28: - t.sk. Audzējamās (vaislas) teles vecākas par 2 gadiem, vēl nav atnesušās | D28: 0 | E28: skaits | G28: 1.6
A29: citi | C29: - t.sk. nobarojamās teles vecākas par 2 gadiem, vēl nav atnesušās | D29: 0 | E29: skaits | G29: 0.01
A30: piena | C30: - t.sk. brāķētās slaucamās govis | D30: 0 | E30: skaits | G30: 0.12
A31: citi | C31: - t.sk. Zīdītājgovis (paredzētas teļu atražošanai, piens nav patēriņam) | D31: 0 | E31: skaits | G31: 0.43
C32: Pārējie mājlopi
A33: citi | B33: 42 | C33: Cūkas | D33: 0 | E33: skaits | G33: 1.02
A34: citi | B34: 43 | C34: Sivēni | D34: 0 | E34: skaits | G34: 0.44
A35: citi | B35: 44 | C35: Aitas, kazas | D35: 0 | E35: skaits | G35: 0.79
A36: citi | B36: 45 | C36: Putni (vistas, pīles u.c.) | D36: 0 | E36: skaits | G36: 4.67
A37: citi | B37: 46 | C37: Zirgi | D37: 0 | E37: skaits | G37: 0.08
A38: citi | B38: 47 | C38: Trušu mātes | D38: 0 | E38: skaits | G38: 0.26
C41: 1.4. Darbaspēka ieguldījums
C42: - Algotā darbaspēka ieguldījums | D42: 0 | E42: Stundas | G42: 3900.8 | I42: Visu nodarbināto kopā nostrādāto stundu skaits gadā (vai konkrētajā laika posmā)
C43: - Ģimenes darbaspēks (nealgotais + ģmenes darbaspēks) | D43: 0 | E43: Stundas | G43: 2778.4
C45: 1.3. Ēkas un tehnika
B46: 7 | C46: - Lopkopībā izmantotās ēkas no visām lauksaimniecības ēkām | D46: 100 | E46: % | G46: 100 | I46: Informācija nepieciešama, lai tehnikas un ēku izmaksas sadalītu pa augkopības un lopkopības nozarēm
B47: 8 | C47: - Augkopībā izmantotā tehnika no visas lauksaimniecības tehnikas | D47: 100 | E47: % | G47: 100
C49: 2. Saražotā produkcija
B51: 51 | C51: Saražotā produkcija kopā | D51: =Aprēķini!G47 -> 0 | E51: EUR | G51: 43258.32
C53: 2.1. Augkopības produkcija | D53: =D54+D56 -> 0 | E53: EUR | G53: 9839.98
...

Sheet Rezultāti
E2: Uz saimniecības datu ievadi
E3: Uz aprakstu
E5: Rezultāti - Jūsu saimniecības piena nozares rādītāji
E7: Ja vēlaties kādā pozīcijā ievadīt mainīt summu, nospiediet "Uz saimniecības datu ievadi", precizējiet saimniecības datus, automātiski aprēķināsies jauna summa. Ja vēlaties redzēt kā mainīsies pašizmaksa, ja izmainīsiet kādu pozīciju, ierakstiet izmainīto pozīcijas lielumu baltajā šūnā, alternatīvie rezultāti parādīsies blakus automātiski aprēķinātajiem.
I9: Ja maina izmaksas
F11: Uz realizēto pienu | G11: Uz saražoto pienu | I11: Uz realizēto pienu | K11: Uz saražoto pienu
E13: Piena pašizmaksa, EUR/kg
B14: Skatīt rezultātus | E14: - bez atbalsta maksājumiem | F14: =Aprēķini!R141 -> 0 | G14: =Aprēķini!Q141 -> 0 | I14: =Aprēķini!U141 -> 0 | K14: =Aprēķini!T141 -> 0
E15: - bez atbalsta maksājumiem un nealgotā darbaspēka izmaksām | F15: =Aprēķini!R142 -> 0 | G15: =Aprēķini!Q142 -> 0 | I15: =Aprēķini!U142 -> 0 | K15: =Aprēķini!T142 -> 0
E16: Atbalsta maksājumi, EUR/kg
B17: Skatīt rezultātus | E17: Visi atbalsta maksājumi | F17: =Aprēķini!R145 -> 0
E20: Saražotā piena apjoms, kg | F20: =Aprēķini!Q136 -> 0
E24: Realizētā piena apjoms, kg | F24: =Aprēķini!R136 -> 0
E25: Pašpatēriņa piens, % no saražotā piena | F25: =Aprēķini!Q137 -> 0
E27: Ieņēmumi
E29: Realizācija, piens | F29: =Aprēķini!Q53 -> 0 | G29: EUR
E30: Realizācija, cita piena liellopu produkcija | F30: =Aprēķini!Q54 -> 0 | G30: EUR
E32: Realizācija, piena lopi un to gaļa | F32: =Aprēķini!Q55 -> 0 | G32: EUR
E35: IEŅĒMUMI KOPĀ | F35: =Aprēķini!Q52 -> 0 | G35: EUR
E37: Izmaksas
E39: Pirktās barības izmaksas. | F39: =Aprēķini!Q89 -> 0 | G39: EUR
E40: Apsēklošana un veterinārās izmaksas | F40: =Aprēķini!Q90 -> 0 | G40: EUR
E41: Pārējās lopkopības materiālās izmaksas | F41: =Aprēķini!Q91 -> 0 | G41: EUR
E43: Piena lopu pirkšanas izmaksas | F43: =Aprēķini!Q76 -> 0 | G43: EUR
E45: Lopkopībā izmantotās augkopības produkcijas tiešās izmaksas | F45: =Aprēķini!Q86 -> 0 | G45: EUR
E47: Lopkopības izmaksas kopā | F47: =Aprēķini!Q83+Aprēķini!Q92 -> 0 | G47: EUR | I47: =Aprēķini!R83+Aprēķini!R92 -> 0
E49: Ēku un tehnikas uzturēšana | F49: =Aprēķini!Q98 -> 0 | G49: EUR
E50: Degviela, smērvielas | F50: =Aprēķini!Q99 -> 0 | G50: EUR
E51: Elektrība, apkure | F51: =Aprēķini!Q100 -> 0 | G51: EUR
E52: Pakalpojumi, tehnikas noma | F52: =Aprēķini!Q101 -> 0 | G52: EUR
E53: Vadības izmaksas | F53: =Aprēķini!Q102 -> 0 | G53: EUR
E54: Pieskaitāmās izmaksas kopā | F54: =Aprēķini!Q103 -> 0 | G54: EUR | I54: =Aprēķini!R103 -> 0
E56: Ēku un būvju nolietojums | F56: =Aprēķini!Q104 -> 0 | G56: EUR
E57: Mašīnu un iekārtu nolietojums | F57: =Aprēķini!Q105 -> 0 | G57: EUR
E58: Pārējo pamatlīdzekļu nolietojums un norakstīšana | F58: =Aprēķini!Q106 -> 0 | G58: EUR
E59: Nolietojums kopā | F59: =Aprēķini!Q107 -> 0 | G59: EUR | I59: =Aprēķini!R107 -> 0
E61: Algotais darbaspēks | F61: =Aprēķini!Q108 -> 0 | G61: EUR
E62: Ģimenes darbaspēka ieguldījums | F62: =Aprēķini!Q109 -> 0 | G62: EUR
E63: Noma | F63: =Aprēķini!Q110 -> 0 | G63: EUR
E64: Procentu maksājumi | F64: =Aprēķini!Q111 -> 0 | G64: EUR
...

Sheet Skaidrojumi
A1: Rinda | B1: Skaidrojums | C1: _
A2: 3 | B2: Algotais darbaspēks - tie ir darbinieki: - kuriem ir darba tiesiskās attiecības ar saimniecību, - kuri nav īpašnieka ģimenes locekļi, - kuriem tiek aprēķināta darba alga un veikti nodokļu maksājumi. Visu algoto darbinieku kopējais gadā nostrādāto stundu skaits, taču aprēķinā liekot ne vairāk par 1840 stundām uz vienu darbinieku.
A3: 5 | B3: Ģimenes un nealgotais darbaspēks - tie ir īpašnieka ģimenes locekļi, kuri saimnieciskā gada beigās saņem noteiktu peļņas daļu vai cita veida materiālu labumu un kuru ieguldītais darbs netiek pilnībā atalgots. Tas var būt īpašnieks vai īpašnieka laulātais, regulāri vai neregulāri nodarbinātas personas. Visu algoto darbinieku kopējais gadā nostrādāto stundu skaits, taču aprēķinā liekot ne vairāk par 1840 stundām uz vienu darbinieku.
A4: 6 | B4: Darba samaksu summa visiem nodarbinātajiem, t.sk. ģimenes un nealgotajam darbaspēkam, kopā par gadu - tajā ieskaita darba algu, prēmijas, peļņas daļu, valsts sociālās apdrošināšanas obligātās iemaksas un visas darba algai pielīdzināmās izmaksas, t.sk. arī atalgojumu natūrā, piemēram, darba devēja segtās izmaksas par dzīvokli, uzturu, apģērbu, īpašumā nodotie uzņēmuma izstrādājumi, izmaksas sakarā ar iekārtošanu darbā, apdrošināšanu pret nelaimes gadījumiem u.c.
A5: 7 | B5: Zeme īpašumā vai pastāvīgā lietošanā. Pie kopējā LIZ pieskaita arī ģimenes dārziņus – tās ir platības, kurās tiek audzēta produkcija personīgajam patēriņam; parasti šīs platības ir atdalītas no pārējās lauksaimniecības zemes.
A6: 8 | B6: Platības, kuras nepieder saimniecībai, bet par kurām uz līguma pamata tiek maksāta nomas maksa, kas parasti ir iepriekš noteikta un nav atkarīga no darbības rezultātiem. Neiekļauj platības: - no kurām tiek nopirkta tikai raža: ja pērk ražu no lopbarības platībām, samaksu par to uzrāda rindā Pirktā lopbarība; ja pērk ražu pārdodamajām (tirgus) kultūrām, piemēram, graudaugiem, kartupeļiem u.c., tad rindā Pārējās specifiskās augkopības izmaksas, - kuru nomas laiks ir mazāks par vienu gadu vai gadījuma rakstura noma. Ja kādai zemes platībai ir divi apsaimniekotāji, tad šī zeme jāieraksta kā īpašnieka vai nomas zeme, vadoties pēc savstarpēji noslēgtā līguma.
A7: 9 | B7: Citiem iznomātā zeme. Neiekļauj platības: - no kurām tiek pārdota tikai raža: ja pārdod ražu no lopbarības platībām, samaksu par to uzrāda pie augkopības produkcijas, rindas kods 52. - kuru nomas laiks ir mazāks par vienu gadu vai gadījuma rakstura noma.
A8: 23 | B8: Neieskaita - lopbarības saknes un kāpostus, kas audzēti sēklai. Ieskaita: - Lopbarības saknes un kāposti lopbarībai; – Kukurūza lopbarībai; – Pākšaugi skābbarībai un zaļmasai: āboliņš, lucerna, vīķi, amoliņš, saldā lupīna; – Citas lopbarības kultūras: galega, graudaugi, kas tiek novākti zaļi skābbarībai un zaļmasai.
A9: 25 | B9: Ieskaita: – Zālāji aramzemē: zālāji, kas sēti aramzemē uz 1 līdz 5 gadiem un ir iekļauti augu sekas sistēmā. – Kultivētas pļavas, ganības (ilggadīgie zālāji): zālāji, kuri aug pļavās un ganībās vairāk nekā 5 gadus un kuru platības nav iekļautas augu sekas sistēmā. – Dabīgās pļavas, ganības (ilggadīgie zālāji): nekultivētas un nemēslotas pļavas un ganības. – Pļavas un ganības, ko neizmanto produkcijas ieguvei (saimniecībā nav mājlopu), bet tās tiek uzturētas labā lauksaimniecības un vides stāvoklī un par kurām saņem vienoto platības maksājumu (VPM).
A10: 38 | B10: - Slaucamās govis ir govis, kas ir atnesušās un tiek turētas piena ražošanai
A11: 36
A12: 39 | B12: – Jaunlopi ir buļļi un teles, kas jaunāki par gadu.
A13: 40 | B13: - Buļļi no 1 līdz 2 gadiem: ieskaita arī vaislas buļļus. - Teles no 1 līdz 2 gadiem: neieskaita tās, kas jau atnesušās.
A14: 41 | B14: - Buļļi, vecāki par 2 gadiem – Vaislas teles, vecākas par 2 gadiem: kas vēl nav atnesušās un ir paredzētas vaislai. - Nobarojamās teles, vecākas par 2 gadiem: kas nav atnesušās un nav paredzētas vaislai. - Brāķētas slaucamās govis. - Zīdītājgovis: atnesušās govis, jaunākas vai vecākas par 2 gadiem, kuras paredzētas tikai teļu atražošanai un kuru piens nav paredzēts pārdošanai, patēriņam pārtikā, ieskaita arī brāķētās zīdītājgovis.
A15: 42 | B15: - Nobarojamās cūkas: cūkas svarā virs 20 kg, izņemot kuiļus un brāķētās cūkas. - Sivēnmātes: svarā virs 50 kg, izņemot brāķētās sivēnmātes. - Pārējās cūkas: kuiļi un brāķētās cūkas, kā arī vaislas sivēnmātes svarā no 20 līdz 50 kg.
A16: 43 | B16: - Sivēni svarā līdz 20 kg
A17: 44 | B17: - Aitu mātes ir aitas, vecākas par gadu un atnesušās, kuras paredzētas vaislai. - Pārējās aitas: visu vecumu aitas, izņemot aitu mātes. - Kazu mātes: paredzētas vaislai. - Pārējās kazas: izņemot kazu mātes.
A18: 45 | B18: - Vistas gaļai: izņemot dējējvistas un brāķētās vistas, neiekļauj cāļus. – Dējējvistas: jaunās vistiņas (kas nav vēl sākušas dēt), dējējvistas un brāķētās dējējvistas, neiekļauj cāļus. - Pīles, zosis, pārējie putni: iekļauj arī tītarus, paipalas, fazānus, strausus, neiekļauj cāļus.
A19: 46 | B19: - Zirgi: pārdošanai audzētie, darba un pārējie zirgi.
A20: 47 | B20: - Trušu mātes. Neieskaita pārējos trušus.
A21: 51 | B21: Pārskata gadā saimniecībā saražoto lauksaimniecības produktu vērtība, neatkarīgi no izlietojuma (t.sk. pārdotā, personīgais patēriņš, izlietotais lopkopībā, augkopībā, pārstrādātais)
A22: 52 | B22: Pārskata gadā saimniecībā saražoto augkopības produktu vērtība (t.sk. pārdotā, personīgais patēriņš, izlietotais lopkopībā, augkopībā, pārstrādātais)
A23: 68 | B23: Pārskata gadā saimniecībā saražoto lopkopības produktu vērtība (t.sk. pārdotā, personīgais patēriņš, izlietotais lopkopībā, augkopībā, pārstrādātais)
... A25: 70 | B25: – Cita lopkopības produkcija (izņemot gaļu): aitas un ķēves piens, ādas, subprodukti, bišu vasks, embriji, biohumuss un ieņēmumi par zirgu pārošanu.
A26: 97
A27: 102
A28: 105
A29: 108 | B29: - Pirktā sēkla, stādi un to apstrāde (neieskaitot ilggadīgos stādījumus): ieskaita arī pirktos puķu sīpolus un gumus, kā arī sēklas apstrādāšanas izmaksas (kodināšana, šķirošana utt.), neieskaita jaunu koku un krūmu stādījumu izveidošanas izmaksas, jo tās uzskata par ieguldījumiem - Pašražotā sēkla un stādi - augkopībā izmantoto pašu saimniecībā ražoto augkopības produktu vērtība. – Pirktie minerālmēsli un augsnes uzlabotāji - tikai pirktie minerālmēsli un augsnes uzlabotāji, kā kūdra, kaļķis. Ja daļa no šiem minerālmēsliem un augsnes uzlabotājiem tiek izmantoti mežsaimniecībā, tad attiecīgās izmaksas nav jāiekļauj. – Pirktie kūtsmēsli u.c. organiskais mēslojums: tikai pirktie kūtsmēsli un cits organiskais mēslojums (arī komposts). – Pašražotais mēslojums (kūtsmēsli, komposts): uzrāda zemes ielabošanai izlietotos saimniecībā saražotos kūtsmēslus, kompostu un biohumusu. – Augkopībā izmantotā pašražotā produkcija – salmi u.c.: uzrāda augkopībā izmantoto pašražoto salmu un komposta izmaksas, ja tādas izmaksas saimniecībā tiek uzskaitītas. - Augu aizsardzības līdzekļi: augu aizsardzības līdzekļu izmaksas. Ja daļa no šiem līdzekļiem tiek izmantoti mežsaimniecībā, tad attiecīgās izmaksas nav jāiekļauj. - Pārējās specifiskās augkopības izmaksas - izmaksas, kas saistītas ar augkopību un netiek atsevišķi uzrādītas citos izmaksu posteņos: iepakojamais un sienamais materiāls, zemes analīžu izmaksas, segumi no sintētiska materiāla, piemēram, zemeņu audzēšanai, izmaksas produkcijas glabāšanai un nosūtīšanai tālākai pārstrādei un pārdošanai (iekļaujot izmaksas īslaicīgai ēku nomai), augošas ražas pirkšana pārdošanai, īslaicīga (mazāk nekā 1 gads) platību noma noteiktu laukaugu audzēšanai un pārdošanai.
A30: 115
A31: 116 | B31: - Pirktā koncentrētā un pārējā lopbarība, pakaiši u.c. ganību mājlopiem; - Pirktā lopbarība, pakaiši u.c. cūkām, mājputniem, trušiem, bitēm, zivīm u.c. Pie pirktās lopbarības pieskaita: iepirkto sienu un salmus, lopbarības raušus, kombinēto lopbarību, graudus, piena produktus, zivju miltus, minerālbarību u.c. ieskaita arī samaksu par ganību izmantošanu, izmaksas lopbarības iegādei pirms ražas ienākšanās, kā arī dažādas piedevas lopbarības konservēšanas vajadzībām, u.c.
A32: 117 | B32: - Pašražotā lopbarība ganību mājlopiem; - Pašražotā lopbarība cūkām, mājputniem, trušiem, bitēm, zivīm u.c. Pie pašražotās lopbarības pieskaita pārdodamu saimniecības produkciju, kuru izmanto lopbarībai un novērtē kā pašražoto produkciju.
A33: 118 | B33: - Veterināro pakalpojumu un medikamentu izmaksas, mākslīgā apsēklošana.
A34: 119 | B34: - Pārējās specifiskās lopkopības izmaksas: piena pārraudzība, kastrācija, ganāmpulka reģistrācija ciltsgrāmatās, ar lopkopību saistīto mašīnu un iekārtu mazgāšanas līdzekļi, iepakojuma materiāls, lopkopības produkcijas glabāšana un nosūtīšana pārstrādes vajadzībām, lopkopības produkcijas sagatavošana pārdošanai un uzglabāšanai, ieskaitot īslaicīgu noliktavu nomu, lopkopības produkcijas mārketinga izmaksas.
A35: 122
A36: 123 | B36: - Zemes un ēku uzturēšanas izmaksas: Ēku un zemes ielabošanas objektu ekspluatācijas izmaksas, ieskaitot siltumnīcu un citu segto platību inventāru, celtniecības materiālus; neuzrāda izmaksas lielākiem remontdarbiem, kas palielina objekta vērtību vai jaunus kapitālieguldījumus. Izmaksas, kas ietver sīkus mašīnu un iekārtu remontus, kuri nepalielina šo mašīnu un iekārtu vērtību vai būtiski neizmaina iekārtu vai mašīnu jaudas, arī sīkā inventāra iegādi, piemēram, riepas, aizsargtērpus veselībai kaitīgu darbu veikšanai, šķīdumus iekārtu mazgāšanai un tīrīšanai.
A37: 124 | B37: Tikai saimniecības vajadzībām patērētā degviela un smērvielas - neieskaita personīgajam patēriņam izlietoto. Degvielas izmaksās uzrāda tikai faktiski samaksāto akcīzes nodokli.
A38: 125 | B38: – Elektrība: pirktās elektroenerģijas patēriņš uzņēmuma vajadzībām. – Pirktais kurināmais: pirktā kurināmā patēriņš uzņēmuma vajadzībām, ieskaitot siltumnīcu apkurināšanu. – Pašražotais kurināmais: pašražotā kurināmā patēriņš uzņēmuma vajadzībām. – Maksa par ūdeni un tā piegādi: samaksa par ūdeni un tā piegādi, ieskaitot apūdeņošanu.
A39: 126 | B39: - Lauksaimniecības pakalpojumi, iekārtu un tehnikas noma: uzrāda samaksu par augsnes apstrādi, sēšanu, mēslošanu, apstrādi ar augu aizsardzības līdzekļiem u.c. Ja samaksā par saņemtajiem pakalpojumiem bez degvielas ir iekļauti arī citi materiāli (augu aizsardzības līdzekļi, mēslojums vai sēklas) un tos ir iespējams novērtēt, tad tos uzskaita pie atbilstošajām materiālajām izmaksām.
A40: 127 | B40: – Maksa par ūdeni un tā piegādi: samaksa par ūdeni un tā piegādi, ieskaitot apūdeņošanu. – Lauksaimniecības apdrošināšana (sējumu, mājlopu u.c.): apdrošināšanas prēmijas par lauksaimniecības produkcijas vai tās komponentu (cenu, ražu, izmaksu) apdrošināšanu. Iekļauj arī visas saimniecības apdrošināšanas prēmiju, ja nav atdalāma prēmijas daļa, kas attiecas uz pārējām nozarēm (nelauksaimnieciskā daļa). Ja nelauksaimnieciskā daļa ir atdalāma, tad to uzrāda pie pārējās apdrošināšanas. - Pārējā apdrošināšana (izņemot darbinieku apdrošināšanu): visas apdrošināšanas prēmijas, kuras attiecas uz pārējo apdrošināšanu – ēku, tehnikas un transportlīdzekļu apdrošināšana, izņemot lauksaimniecības apdrošināšanu. Darba ņēmēju apdrošināšanu pret nelaimes gadījumiem uzrāda rindā Algotā darbaspēka izmaksas. – Uz pārskata gadu attiecinātie iepriekšējo periodu izdevumi – Pārējās pieskaitāmās izmaksas, izņemot pašražotās produkcijas krājumu starpību: telefona, grāmatvedības, biroja uzturēšanas u.c. izmaksas, arī ēku īslaicīgas (mazāk par 1 gadu) nomas maksas, pārdošanas izmaksas, zaudējumi no valūtas kursa svārstībām, soda naudas.
A41: 128
...

Sheet Aprēķini
B1: Rādītājs | C1: 2013.gads | G1: Ievadi savas saimniecības rādītājus | Q1: Saimniecība
P2: Piena lopu skaits (NMV) | Q2: =G24*$A18+G27*$A21+G30*$A24+G33*$A27+G35*$A29 -> 0
B3: Saimniecību skaits | C3: 373 | F3: Algotā darbasp.vid.atalgojums stundā | G3: =G108/G6 -> #DIV/0! | J3: =10601/G7 -> #DIV/0! | O3: =J3/G3 -> #DIV/0! | P3: Kopējais lopu skaits (NMV) | Q3: =G24*$A18+G26*$A20+G27*$A21+G29*$A23+G30*$A24+G32*$A26+G33*$A27+G34*$A28+G35*$A29+G36*$A30+G38*$A32+G41*$A35+G42*$A36+G40*$A34+G39*$A33+G37*$A31 -> 0
B4: Pārstāvētās saimniecības | C4: 7993.77 | F4: Lauksaimniecības darbasp. vid.atalgojums stundā | G4: =G5*12/1840 -> 4.2586957 | P4: Liellopu skaits (NMV) | Q4: =G24*$A18+G26*$A20+G27*$A21+G29*$A23+G30*$A24+G32*$A26+G33*$A27+G34*$A28+G35*$A29+G36*$A30 -> 0
B5: Reģions | F5: Vidējā mēneša darba alga lauksaimniecībā 2014.gadā (CSP) | G5: 653 | I5: mērvienība par kārtējo gadu | P5: Ganāmo lopu skaits (NMV) | Q5: =G24*$A18+G26*$A20+G27*$A21+G29*$A23+G30*$A24+G32*$A26+G33*$A27+G34*$A28+G35*$A29+G36*$A30+G41*$A35+$A33*G39 -> 0
B6: Specializācija | C6: 41 | E6: Darbaspēks | F6: Algotā darbasp.ieguldījums - stundas gadā | G6: ='Saimniecības dati'!D42 -> 0
B7: Ekon. lieluma grupa | F7: Nealgotā darbasp. Ieguldījums - stundas gadā | G7: ='Saimniecības dati'!D43 -> 0
B8: Ekonomiskais lielums | C8: 34605.59 | F8: Kopējais darbaspēka ieguldījums - LDV | G8: =SUM(G9:G10) -> 0 | I8: Regulāri nodarbinātām personām, kas saimniecībā nav nostrādājušas pilnu gadu, darbaspēka ieguldījumu cilvēkgados aprēķina: Nostrādātās stundas gadā / 1840 stundas | S8: =G8*1840 -> 0
B9: Algotā darbaspēka ieguldījums, LDV | C9: 0.62 | F9: Algotā darbasp. ieguld. - LDV | G9: =G6/1840 -> 0 | S9: =G9*1840 -> 0
B10: t.sk. lauksaimn., LDV | C10: 0.61 | F10: Nealgotā darbasp. ieguld. - LDV | G10: =G7/1840 -> 0 | S10: =G10*1840 -> 0
B11: t.sk. lauksaimn., stundas | C11: 1151.26 | F11: Nealgotā darbaspēka samaksa | G11: =G12*G7 -> 0 | J11: 10 601 pēc SUDAT datiem
B12: Nealgotā darbaspēka ieguldījums, LDV | C12: 1.5 | F12: Vidējā darbaspēka samaksa stundā | G12: =IFERROR(G3,G4) -> 4.2586957
B13: t.sk. lauksaimn., LDV | C13: 1.5 | E13: Zeme - ha | F13: KOPĒJĀ LIZ | G13: =G14+G18+G22 -> 10 | I13: ha
B14: t.sk. lauksaimn., stundas | C14: 3014.46 | F14: Pašu lopkopības vajadzībām izmantotā LIZ | G14: ='Saimniecības dati'!D13 -> 10 | I14: ha
B15: LIZ īpašumā, ha | C15: 31.44 | F15: - t. sk. aramzemē sētās kultūras - ha | I15: ha
B16: Nomātā LIZ, ha | C16: 21.09 | F16: - t. sk. pļavas un ganības | I16: ha
A17: NMV koeficients | B17: Citiem iznomātā LIZ, ha | C17: 0.83 | F17: - t. sk.ilggadīgie stādījumi | I17: vidēji t/govi | O17: Visi koeficienti
A18: 1 | B18: Apsaimniekotā LIZ, ha | C18: 51.7 | F18: Citām vajadzībām izmantotā LIZ | G18: ='Saimniecības dati'!D14 -> 0 | I18: skaits | O18: K1 | P18: Kultūru platība pašu lopbarībai/kopējā izmantotā LIZ | Q18: =IFERROR(G14/(G14+G18),0) -> 1 | R18: =AA49/AA48 -> 0.79588263 | S18: <- no SUDAT iegūst pēc produkcijas attiecībām
B19: Kvieši | C19: 2.53 | F19: - t. sk. aramzemē sētās kultūras - ha | I19: skaits | O19: K2 | P19: Piena lopi/Visi lopi (NMV) | Q19: =IFERROR(Q2/Q3,0) -> 0
A20: 0.4 | B20: Rudzi | C20: 0.32 | F20: - t. sk. pļavas un ganības | I20: skaits | O20: K3 | P20: Piena lopi/visi liellopi (NMV) | Q20: =IFERROR(Q2/Q4,0) -> 0
A21: 0.4 | B21: Mieži | C21: 2.2 | F21: - t. sk.ilggadīgie stādījumi | I21: skaits | P21: Piena lopi/ganāmie lopi (NMV) | Q21: =IFERROR(Q2/Q5,0) -> 0
B22: Auzas | C22: 2.16 | F22: Neapstrādātā LIZ | G22: ='Saimniecības dati'!D15 -> 0 | I22: skaits | O22: K4_1 | P22: Tehnika lopkopībai/visa tehnika | Q22: =1-'Saimniecības dati'!D47/100 -> 0
A23: 0.7 | B23: Tritikāle | C23: 0.34 | F23: Piena izslaukums no govs | G23: =IFERROR(Q136/G24/1000,0) -> 0 | I23: skaits | O23: K4_2 | P23: Ēkas lopkopībai/visas ēkas | Q23: ='Saimniecības dati'!D46/100 -> 1
A24: 0.7 | B24: Pārējie graudaugi | C24: 0.62 | E24: Mājlopi - vidējais skaits | F24: Slaucamās govis | G24: ='Saimniecības dati'!D19 -> 0 | I24: skaits | O24: K5 | P24: Piena nozares izlaide /kopējā produkcija | Q24: =IFERROR(Q42/Q49,0) -> 0
B25: Pākšaugi | C25: 0.04 | F25: Teļi līdz 1 gadam | G25: =G26+G27 -> 0 | I25: skaits | O25: K5A | P25: Realizētais piens pret kopējo saimn. produkciju | Q25: =IFERROR(J50/G47,0) -> 0
A26: 1 | B26: Kartupeļi | C26: 0.31 | F26: t.sk. Teļi nokaušanai līdz 6 mēnešu vecumam | G26: ='Saimniecības dati'!D21 -> 0 | I26: skaits | O26: K5C | P26: Lopkopība-lopkopībai starppārstrādes koeficients | Q26: =IFERROR(1+K50/(G49-K50-L51),0) -> 0
A27: 0.8 | B27: Rapsis | C27: 0.28 | F27: t.sk. Pārējie jaunlopi jaunāki par gadu | G27: ='Saimniecības dati'!D22 -> 0 | I27: skaits | O27: K5D | P27: Augkopība - lopkopībai starppārstrādes koeficients | Q27: =IFERROR(1+K48/G49,0) -> 0
A28: 0.8 | B28: Pārējās kultūras | C28: 0.05 | F28: Jaunlopi vecāki par gadu | G28: =G29+G30 -> 0 | I28: skaits | O28: K5 var | P28: Piena realizācija / kopējā izlaide | Q28: =Q25*Q26*Q27 -> 0
A29: 1 | B29: Dārzeņi, zemenes, ziedi | C29: 0.05 | F29: t.sk. Buļļi no 1 līdz 2 gadiem | G29: ='Saimniecības dati'!D24 -> 0 | I29: skaits | P29: Realizētais piens/ Saražotais piens | Q29: =IFERROR(J50/G50,0) -> 0
A30: 1 | B30: Lopbarības kultūras (aramzemē) | C30: 22.82 | F30: t.sk. Teles no 1 līdz 2 gadiem | G30: ='Saimniecības dati'!D25 -> 0 | I30: skaits | O30: K6 | P30: Piena realizācija / piena lopkopības nozares realizācija | Q30: =IFERROR(Q53/Q52,0) -> 0
A31: 0.3 | B31: Ilggadīgie stādījumi | C31: 0.08 | F31: Pārējie liellopi | G31: =G32+G33+G34+G35+G36 -> 0 | I31: skaits | O31: K6 Var | P31: Piena produkcija / piena lopkopības nozares produkcija | Q31: =IFERROR(Q28/Q24,0) -> 0
A32: 0.027 | B32: Pļavas un ganības | C32: 18.57 | F32: t.sk. Buļļi vecāki par 2 gadiem | G32: ='Saimniecības dati'!D27 -> 0 | I32: skaits | O32: K7_1 | P32: Tehnikas īpatsvars no tehnikas un ēkām | Q32: =IFERROR(Q40/(Q39+Q40),) -> 0
A33: 0.1 | B33: Papuves | C33: 0.73 | F33: t.sk. Audzējamās teles vecākas par 2 gadiem | G33: ='Saimniecības dati'!D28 -> 0 | I33: skaits | O33: K7_2 | P33: Ēku īpatsvars no tehnikas un ēkām | Q33: =IFERROR(Q39/(Q40+Q39),0) -> 0
A34: 0.03 | B34: Neizmantotā LIZ | C34: 0.61 | F34: t.sk. Nobarojamās teles vecākas par 2 gadiem | G34: ='Saimniecības dati'!D29 -> 0 | I34: skaits
A35: 0.8 | B35: Mājlopi - vidējais skaits: | F35: t.sk. Brāķētās slaucamās govis | G35: ='Saimniecības dati'!D30 -> 0 | I35: skaits | P35: Degviela augkopībai (pašu lopkopības ) | Q35: =G14*80 -> 800
A36: 0.02 | B36: Slaucamās govis | C36: 15.96 | F36: t.sk. Zīdītājgovis | G36: ='Saimniecības dati'!D31 -> 0 | I36: skaits | P36: Degviela augkopībai (cita ) | Q36: =G18*100 -> 0
B37: Teļi līdz 1 gadam | C37: 7.96 | F37: Cūkas | G37: ='Saimniecības dati'!D33 -> 0 | I37: EUR | P37: Degviela lopkopībai | Q37: =15*Q3 -> 0
B38: Jaunlopi vecāki par gadu | C38: 5.47 | F38: Sivēni | G38: ='Saimniecības dati'!D34 -> 0 | I38: EUR | P38: Tehniskās izmaksas pienam/tehniskās izmaksas kopā | Q38: =IFERROR(Q19*(Q35+Q37)/(Q35+Q36+Q37),0) -> 0
B39: Pārējie liellopi | C39: 2.11 | F39: Aitas, kazas | G39: ='Saimniecības dati'!D35 -> 0 | P39: Ēku vērtība | Q39: =Q104/0.05 -> 0
B40: Cūkas | C40: 1.07 | F40: Putni (vistas, pīles u.c.) | G40: ='Saimniecības dati'!D36 -> 0 | P40: Tehnikas vērtība | Q40: =Q105/0.2 -> 0
...
